BEGIN:VCALENDAR
VERSION:2.0
PRODID:-//Munich Startup - ECPv5.5.0//NONSGML v1.0//EN
CALSCALE:GREGORIAN
METHOD:PUBLISH
X-WR-CALNAME:Munich Startup
X-ORIGINAL-URL:https://cms.munich-startup.net
X-WR-CALDESC:Veranstaltungen für Munich Startup
BEGIN:VTIMEZONE
TZID:Europe/Berlin
BEGIN:DAYLIGHT
TZOFFSETFROM:+0100
TZOFFSETTO:+0200
TZNAME:CEST
DTSTART:20160327T010000
END:DAYLIGHT
BEGIN:STANDARD
TZOFFSETFROM:+0200
TZOFFSETTO:+0100
TZNAME:CET
DTSTART:20161030T010000
END:STANDARD
END:VTIMEZONE
BEGIN:VEVENT
DTSTART;TZID=Europe/Berlin:20161014T180000
DTEND;TZID=Europe/Berlin:20161015T180000
DTSTAMP:20260424T225819
CREATED:20160915T113255Z
LAST-MODIFIED:20211027T143017Z
UID:14376-1476468000-1476554400@cms.munich-startup.net
SUMMARY:Zündfunk Netzkongress 2016
DESCRIPTION:MIND THE GAP\nBesorgte Bürger gegen Gutmenschen. Digital Natives gegen Digital Immigrants. Flüchtlinge gegen Biodeutsche. Alt gegen jung. Reich gegen Arm. Alle gegen Alle? Der Zündfunk Netzkongress 2016 sagt: Mind the gap! Schließt die Lücken! Schüttet die Gräben zu! \nAuch in 2016 veranstaltet das Bayern 2-Szenemagazin Zündfunk wieder seinen Netzkongress: zwei Tage mit Vorträgen\, Workshops\, Diskussionen und Pop – am Abend des 14. Oktober und den ganzen 15. Oktober im Münchner Volkstheater.
URL:https://cms.munich-startup.net/veranstaltung/zuendfunk-netzkongress-2016/
ATTACH;FMTTYPE=image/jpeg:https://cms.munich-startup.net/wp-content/uploads/2016/09/zündfunk-netzkongress-2016.jpg
END:VEVENT
END:VCALENDAR