BEGIN:VCALENDAR
VERSION:2.0
PRODID:-//Munich Startup - ECPv5.5.0//NONSGML v1.0//EN
CALSCALE:GREGORIAN
METHOD:PUBLISH
X-WR-CALNAME:Munich Startup
X-ORIGINAL-URL:https://cms.munich-startup.net
X-WR-CALDESC:Veranstaltungen für Munich Startup
BEGIN:VTIMEZONE
TZID:Europe/Berlin
BEGIN:DAYLIGHT
TZOFFSETFROM:+0100
TZOFFSETTO:+0200
TZNAME:CEST
DTSTART:20250330T010000
END:DAYLIGHT
BEGIN:STANDARD
TZOFFSETFROM:+0200
TZOFFSETTO:+0100
TZNAME:CET
DTSTART:20251026T010000
END:STANDARD
END:VTIMEZONE
BEGIN:VEVENT
DTSTART;TZID=Europe/Berlin:20250515T090000
DTEND;TZID=Europe/Berlin:20250515T103000
DTSTAMP:20260425T142440
CREATED:20250423T083246Z
LAST-MODIFIED:20250423T083416Z
UID:109297-1747299600-1747305000@cms.munich-startup.net
SUMMARY:Women Start-up Morning Jour Fixe
DESCRIPTION:Women Start-up Morning Jour Fixe – from Jobdespair to Funding an AI native Deeptech Startup \nAre you interested in the topic of entrepreneurship? Do you like to connect with other (future) female founders? And are you interested in the topic of Deeptech startups? \nJoin us for a unique morning event at the Media Lab Bayern where you’ll have the chance to meet and connect with the Women Start-up community. \nThis time we are focussing on the topic of funding an AI native Deeptech Startup. \nOur expert Anika Gruner initially started her professional career in the media environment. After working for Prosiebensat1\, ARTE\, BR and production companies such as Endemol\, her path led her into B2B online marketing\, where she worked for several years in international companies. Today she tells us how her path from marketing led her to co-founding a deeptech startup and why she can’t imagine doing anything else but being self-employed.\nNeuraforge is working on a comprehensive\, AI-supported solution for reliable deepfake detection to prove the authenticity of media content. With their comprehensive software\, they want to give people the solution to curate all forms of feeds. Neuraforge was launched in April 2024 attending the Media Lab Start Up Fellowship and has 5 employees today. \nTake the chance to ask questions\, get first-hand insights\, and connect with other students and young professionals over a coffee – who knows\, you might meet your future co-founder or spark the idea for your next big project! \nThis event is brought to you by Women Start-up in cooperation with Media Lab Bayern. \nHier findet Ihr mehr Informationen zu der Veranstaltung.
URL:https://cms.munich-startup.net/veranstaltung/women-start-up-morning-jour-fixe-0525/
LOCATION:Media Lab Bayern\, Rosenheimer Str. 145 i\, München\, 81671
ATTACH;FMTTYPE=image/jpeg:https://cms.munich-startup.net/wp-content/uploads/2025/04/Morning-JF_14.11.24-1.jpg
GEO:48.12128;11.6063
X-APPLE-STRUCTURED-LOCATION;VALUE=URI;X-ADDRESS=Media Lab Bayern Rosenheimer Str. 145 i München 81671;X-APPLE-RADIUS=500;X-TITLE=Rosenheimer Str. 145 i:geo:11.6063,48.12128
END:VEVENT
END:VCALENDAR