BEGIN:VCALENDAR
VERSION:2.0
PRODID:-//Munich Startup - ECPv5.5.0//NONSGML v1.0//EN
CALSCALE:GREGORIAN
METHOD:PUBLISH
X-WR-CALNAME:Munich Startup
X-ORIGINAL-URL:https://cms.munich-startup.net
X-WR-CALDESC:Veranstaltungen für Munich Startup
BEGIN:VTIMEZONE
TZID:Europe/Berlin
BEGIN:DAYLIGHT
TZOFFSETFROM:+0100
TZOFFSETTO:+0200
TZNAME:CEST
DTSTART:20250330T010000
END:DAYLIGHT
BEGIN:STANDARD
TZOFFSETFROM:+0200
TZOFFSETTO:+0100
TZNAME:CET
DTSTART:20251026T010000
END:STANDARD
END:VTIMEZONE
BEGIN:VEVENT
DTSTART;TZID=Europe/Berlin:20251210T170000
DTEND;TZID=Europe/Berlin:20251210T220000
DTSTAMP:20260425T042723
CREATED:20251106T090629Z
LAST-MODIFIED:20251107T094942Z
UID:114378-1765386000-1765404000@cms.munich-startup.net
SUMMARY:Weihnachtliches Startup Networking von MTZ und BayStartUP
DESCRIPTION:Wir laden dich herzlich zur Startup-Weihnachtsfeier des MTZ und BayStartUP ein! \nStimme dich gemeinsam mit uns bei Glühwein\, Punsch und spannenden Food-Neuheiten von Startups aus unserem Netzwerk auf die bevorstehenden Feiertage ein! \nUm für Speisen und Getränke besser planen zu können\, bitten wir um Anmeldung. \nHier findet Ihr mehr Informationen zu der Veranstaltung.
URL:https://cms.munich-startup.net/veranstaltung/weihnachtliches-startup-networking-von-mtz-und-baystartup-2025/
LOCATION:MTZ\, Agnes-Pockels-Bogen 1\, München\, 80992
ATTACH;FMTTYPE=image/png:https://cms.munich-startup.net/wp-content/uploads/2025/11/20251105mtzweihnachtsfeier.png
GEO:48.1738116;11.5322241
X-APPLE-STRUCTURED-LOCATION;VALUE=URI;X-ADDRESS=MTZ Agnes-Pockels-Bogen 1 München 80992;X-APPLE-RADIUS=500;X-TITLE=Agnes-Pockels-Bogen 1:geo:11.5322241,48.1738116
END:VEVENT
END:VCALENDAR