BEGIN:VCALENDAR
VERSION:2.0
PRODID:-//Munich Startup - ECPv5.5.0//NONSGML v1.0//EN
CALSCALE:GREGORIAN
METHOD:PUBLISH
X-WR-CALNAME:Munich Startup
X-ORIGINAL-URL:https://cms.munich-startup.net
X-WR-CALDESC:Veranstaltungen für Munich Startup
BEGIN:VTIMEZONE
TZID:Europe/Berlin
BEGIN:DAYLIGHT
TZOFFSETFROM:+0100
TZOFFSETTO:+0200
TZNAME:CEST
DTSTART:20260329T010000
END:DAYLIGHT
BEGIN:STANDARD
TZOFFSETFROM:+0200
TZOFFSETTO:+0100
TZNAME:CET
DTSTART:20261025T010000
END:STANDARD
END:VTIMEZONE
BEGIN:VEVENT
DTSTART;TZID=Europe/Berlin:20260507T183000
DTEND;TZID=Europe/Berlin:20260507T220000
DTSTAMP:20260424T155229
CREATED:20260422T085644Z
LAST-MODIFIED:20260422T085644Z
UID:119787-1778178600-1778191200@cms.munich-startup.net
SUMMARY:Unternehmer:innen live: Steffen Marx\, Gründer von Giesinger Bräu
DESCRIPTION:Hopfen\, Malz und Gründergeist: Steffen Marx\, Gründer und Geschäftsführer der Giesinger Biermanufaktur\, ist am 7. Mai 2026 bei Unternehmer:innen Live zu Gast. Vom Start in der „dahauten Garage“ bis zur zweitgrößten Privatbrauerei Münchens mit Millionenumsatz: Marx erzählt seine außergewöhnliche Gründungsgeschichte\, spricht über Crowdfunding als Wachstumsmotor und gibt Einblicke in seine aktuelle Mission\, Giesinger Bräu auf das Oktoberfest zu bringen. \nWas 2006 als mutiges Experiment in einer kleinen Garage begann\, ist heute eine der spannendsten Brauereien Münchens: Steffen Marx\, Quereinsteiger mit abgebrochenem Studium in Vermessungs- und Brauwesen\, hat mit der Giesinger Biermanufaktur eine echte Erfolgsgeschichte geschrieben. Trotz finanzieller Hürden und anfänglicher Unsicherheiten blieb er seiner Vision treu – und wurde belohnt. \nMit der Eröffnung eines neuen Standorts im Jahr 2014 und der offiziellen Anerkennung als Münchner Brauerei im Jahr 2020 hat sich Giesinger Bräu fest in der traditionsreichen Bierlandschaft der Stadt etabliert. Heute zählt das Unternehmen zu den größten privaten Brauereien Münchens – mit einem klaren Fokus auf Qualität\, Regionalität und Innovationsgeist. \nCrowdfunding\, Community und große Visionen\nEin zentraler Baustein des Erfolgs: die enge Verbindung zur Community. Steffen Marx setzte früh auf Crowdfunding und schaffte es\, nicht nur Kapital\, sondern auch Begeisterung für seine Marke aufzubauen. Diese Nähe zu den Unterstützer prägt Giesinger Bräu bis heute. \nAuch kulturell ging Marx neue Wege: Mit dem Film „Out of Giesing“ wurde seine unternehmerische Reise filmisch begleitet – ein weiteres Beispiel für seinen unkonventionellen Ansatz. \nAuf dem Weg zur Wiesn – Giesinger will aufs Oktoberfest\nAktuell sorgt Steffen Marx mit einem ambitionierten Vorhaben für Aufmerksamkeit: Per Bürgerbegehren kämpft er dafür\, dass Giesinger Bräu künftig auf dem Oktoberfest vertreten ist – mit einem eigenen Zelt. Ein Schritt\, der nicht nur wirtschaftlich\, sondern auch symbolisch große Bedeutung für die Marke hätte. \nEin Abend voller Insights und Gründergeist \nBei Unternehmer:innen Live gibt Steffen Marx persönliche Einblicke in seinen Weg – von Rückschlägen und Risiken bis hin zu mutigen Entscheidungen und großen Erfolgen. Im Fokus stehen dabei: \n\nder Aufbau einer starken Marke ohne klassischen Hintergrund\ndie Kraft von Crowdfunding und Community\nunternehmerischer Mut in einer traditionsgeprägten Branche\nAuthentisch\, inspirierend und praxisnah: Freuen Sie sich auf einen Abend voller Unternehmertum – mit all seinen Facetten.\n\nHier findet Ihr mehr Informationen zu der Veranstaltung. 
URL:https://cms.munich-startup.net/veranstaltung/unternehmerinnen-live-steffen-marx-gruender-von-giesinger-braeu/
LOCATION:Strascheg Center for Entrepreneurship (SCE)\, Heßstraße 89\, München\, 80797
ATTACH;FMTTYPE=image/jpeg:https://cms.munich-startup.net/wp-content/uploads/2026/04/SCE_Ulive_SM_SteffenMarx_NEWS2.jpg
GEO:48.1539667;11.5576473
X-APPLE-STRUCTURED-LOCATION;VALUE=URI;X-ADDRESS=Strascheg Center for Entrepreneurship (SCE) Heßstraße 89 München 80797;X-APPLE-RADIUS=500;X-TITLE=Heßstraße 89:geo:11.5576473,48.1539667
END:VEVENT
END:VCALENDAR