BEGIN:VCALENDAR
VERSION:2.0
PRODID:-//Munich Startup - ECPv5.5.0//NONSGML v1.0//EN
CALSCALE:GREGORIAN
METHOD:PUBLISH
X-WR-CALNAME:Munich Startup
X-ORIGINAL-URL:https://cms.munich-startup.net
X-WR-CALDESC:Veranstaltungen für Munich Startup
BEGIN:VTIMEZONE
TZID:Europe/Berlin
BEGIN:DAYLIGHT
TZOFFSETFROM:+0100
TZOFFSETTO:+0200
TZNAME:CEST
DTSTART:20250330T010000
END:DAYLIGHT
BEGIN:STANDARD
TZOFFSETFROM:+0200
TZOFFSETTO:+0100
TZNAME:CET
DTSTART:20251026T010000
END:STANDARD
END:VTIMEZONE
BEGIN:VEVENT
DTSTART;TZID=Europe/Berlin:20251211T150000
DTEND;TZID=Europe/Berlin:20251211T220000
DTSTAMP:20260425T041119
CREATED:20251014T075302Z
LAST-MODIFIED:20251014T075334Z
UID:113642-1765465200-1765490400@cms.munich-startup.net
SUMMARY:Ultimate Demo Day 2025
DESCRIPTION:Der Ultimate Demo Day ist unser jährliches Pitch-Event\, bei dem Startups\, einflussreiche Branchenführer und InvestorInnen zusammenkommen. \nDiese Veranstaltung ist die beste Plattform\, um eure Investition auf die nächste Stufe zu heben! Trefft über 60 ausgewählte Startups aus ganz unterschiedlichen Clustern\, erweitert euer Netzwerk und lasst euch von ExpertInnen auf der Bühne inspirieren! \nHier findet Ihr mehr Informationen zu der Veranstaltung.
URL:https://cms.munich-startup.net/veranstaltung/ultimate-demo-day-2025/
LOCATION:Munich Urban Colab\, Freddie-Mercury-Straße 5\, München\, 80797
ATTACH;FMTTYPE=image/png:https://cms.munich-startup.net/wp-content/uploads/2025/10/UnternehmerTUM-logo-color.png
END:VEVENT
END:VCALENDAR