BEGIN:VCALENDAR
VERSION:2.0
PRODID:-//Munich Startup - ECPv5.5.0//NONSGML v1.0//EN
CALSCALE:GREGORIAN
METHOD:PUBLISH
X-WR-CALNAME:Munich Startup
X-ORIGINAL-URL:https://cms.munich-startup.net
X-WR-CALDESC:Veranstaltungen für Munich Startup
BEGIN:VTIMEZONE
TZID:Europe/Berlin
BEGIN:DAYLIGHT
TZOFFSETFROM:+0100
TZOFFSETTO:+0200
TZNAME:CEST
DTSTART:20240331T010000
END:DAYLIGHT
BEGIN:STANDARD
TZOFFSETFROM:+0200
TZOFFSETTO:+0100
TZNAME:CET
DTSTART:20241027T010000
END:STANDARD
END:VTIMEZONE
BEGIN:VEVENT
DTSTART;TZID=Europe/Berlin:20241210T150000
DTEND;TZID=Europe/Berlin:20241210T220000
DTSTAMP:20260425T213958
CREATED:20241209T084534Z
LAST-MODIFIED:20241209T084534Z
UID:106473-1733842800-1733868000@cms.munich-startup.net
SUMMARY:Ultimate Demo Day 2024
DESCRIPTION:Ultimate Demo Day 2024. Live-Pitches von 60 Startups in neun Clustern auf drei Bühnen\, Matchmaking & Networking\, inspirierende Keynotes. \nNeben Verena Pausder\, Vorstandsvorsitzende des Startup-Verbands\, Expertin für Digitale Bildung\, Annahita Esmailzadeh\, Head of Customer Success Account Management Microsoft\, Business Influencerin & Autorin wird auch Maximilian Schmidt\, Co-Founder of Kinexon live auf der Bühne sein. \nOb Ihr auf der Suche nach Eurem Portfolio-Startup\, einem Investor oder Projektpartner seid: Unser Ultimate Demo Day ist die ideale Plattform\, um das next level an Innovation zu erreichen! \nHier findet Ihr mehr Informationen zu der Veranstaltung.
URL:https://cms.munich-startup.net/veranstaltung/ultimate-demo-day-2024/
LOCATION:Munich Urban Colab\, Freddie-Mercury-Straße 5\, München\, 80797
ATTACH;FMTTYPE=image/png:https://cms.munich-startup.net/wp-content/uploads/2024/12/UnternehmerTUM-logo-color.png
END:VEVENT
END:VCALENDAR