BEGIN:VCALENDAR
VERSION:2.0
PRODID:-//Munich Startup - ECPv5.5.0//NONSGML v1.0//EN
CALSCALE:GREGORIAN
METHOD:PUBLISH
X-WR-CALNAME:Munich Startup
X-ORIGINAL-URL:https://cms.munich-startup.net
X-WR-CALDESC:Veranstaltungen für Munich Startup
BEGIN:VTIMEZONE
TZID:Europe/Berlin
BEGIN:DAYLIGHT
TZOFFSETFROM:+0100
TZOFFSETTO:+0200
TZNAME:CEST
DTSTART:20240331T010000
END:DAYLIGHT
BEGIN:STANDARD
TZOFFSETFROM:+0200
TZOFFSETTO:+0100
TZNAME:CET
DTSTART:20241027T010000
END:STANDARD
END:VTIMEZONE
BEGIN:VEVENT
DTSTART;TZID=Europe/Berlin:20240917T170000
DTEND;TZID=Europe/Berlin:20240917T200000
DTSTAMP:20260426T020857
CREATED:20240704T080448Z
LAST-MODIFIED:20240801T071127Z
UID:103663-1726592400-1726603200@cms.munich-startup.net
SUMMARY:Online: Fachworkshop: Typische Klauseln in Beteiligungsverträgen
DESCRIPTION:Typische Klauseln in Beteiligungsverträgen \nDie Zusammenarbeit zwischen Investor und Unternehmen wird rechtlich mittels eines Beteiligungsvertrages geregelt. Es ist üblich\, dass der Investor einen Beteiligungsvertrag vorschlägt. Was ist bei der Verhandlung der Vertragswerke zu beachten und was sollte ich in jedem Fall wissen\, wenn ich in Gespräche mit Investoren gehe? \nDas Team von Osborne Clarke gibt Einblicke und Tipps\, wie typische Beteiligungsverträge aussehen und welche Gestaltungsmöglichkeiten es gibt: \n\nWas sind typische Elemente?\nWas sind typische Formulierungen?\nWas ist verhandelbar?\nVerwässerungsschutz\, Liquiditätspräferenz\, Mitverkaufsverpflichtung und andere Details\n\nHier findet Ihr mehr Informationen zu der Veranstaltung.
URL:https://cms.munich-startup.net/veranstaltung/typische-klauseln-in-beteiligungsvertraegen-0924/
LOCATION:Online
ATTACH;FMTTYPE=image/png:https://cms.munich-startup.net/wp-content/uploads/2023/03/BayStartUP_Logotype_pos_RGB-1.png
END:VEVENT
END:VCALENDAR