BEGIN:VCALENDAR
VERSION:2.0
PRODID:-//Munich Startup - ECPv5.5.0//NONSGML v1.0//EN
CALSCALE:GREGORIAN
METHOD:PUBLISH
X-WR-CALNAME:Munich Startup
X-ORIGINAL-URL:https://cms.munich-startup.net
X-WR-CALDESC:Veranstaltungen für Munich Startup
BEGIN:VTIMEZONE
TZID:Europe/Berlin
BEGIN:DAYLIGHT
TZOFFSETFROM:+0100
TZOFFSETTO:+0200
TZNAME:CEST
DTSTART:20240331T010000
END:DAYLIGHT
BEGIN:STANDARD
TZOFFSETFROM:+0200
TZOFFSETTO:+0100
TZNAME:CET
DTSTART:20241027T010000
END:STANDARD
END:VTIMEZONE
BEGIN:VEVENT
DTSTART;TZID=Europe/Berlin:20241203T170000
DTEND;TZID=Europe/Berlin:20241203T183000
DTSTAMP:20260425T214054
CREATED:20241118T072952Z
LAST-MODIFIED:20241118T073056Z
UID:105946-1733245200-1733250600@cms.munich-startup.net
SUMMARY:Strascheg Award Verleihung 2024
DESCRIPTION:Am 3. Dezember 2024 findet die jährliche Verleihung des Strascheg Awards statt – dem renommierten Ideenwettbewerb der Hochschule München und des Strascheg Center for Entrepreneurship (SCE). Die Besucher dürfen sich im Rahmen der Preisverleihung auf spannende Startup-Pitches und Networking-Möglichkeiten freuen. \nDer Strascheg Award ist mit Preisgeldern von 30.000 Euro einer der größten deutschen Ideenwettbewerbe für unternehmerische Ideen und Innovationskraft. Es werden jährlich die besten Geschäftsideen von Dozierenden\, Mitarbeitenden\, Studierenden und Alumni der Hochschule München aus drei Kategorien prämiert: Ideen aus einer Lehrveranstaltung (Kategorie 1)\, Ideen aus der Studienzeit (Kategorie 2) und Ideen aus Wissenschaft und Praxis (Kategorie 3). Der Award fördert kreative und zukunftsweisende Projekte\, die von unternehmerischer Motivation angetrieben sind. \nFür jede Kategorie gibt es ein Preisgeld in Höhe von insgesamt 10.000 Euro. Die erstplatzierten Teams erhalten jeweils 5.000 Euro\, die zweiten Plätze 3.000 Euro und die dritten Plätze 2.000 Euro. Alle Teilnehmer erhalten zudem ein qualifiziertes Feedback zu ihren Ideen und die Chance auf Unterstützung im SCE Incubation Programm. Dort erwartet sie intensives Coaching\, Prototyping-Budget und Zugang zu exklusiven Workshops – ein echter Mehrwert für alle\, die ihre Ideen weiterverfolgen und ausbauen möchten. \nHier findet Ihr mehr Informationen zu der Veranstaltung.
URL:https://cms.munich-startup.net/veranstaltung/strascheg-award-verleihung-2024/
LOCATION:Hochschule München\, Lothstraße 34\, München\, 80335
ATTACH;FMTTYPE=image/jpeg:https://cms.munich-startup.net/wp-content/uploads/2024/11/Strascheg-Award-Verleihung-2024.jpg
GEO:48.1535512;11.5531563
X-APPLE-STRUCTURED-LOCATION;VALUE=URI;X-ADDRESS=Hochschule München Lothstraße 34 München 80335;X-APPLE-RADIUS=500;X-TITLE=Lothstraße 34:geo:11.5531563,48.1535512
END:VEVENT
END:VCALENDAR