BEGIN:VCALENDAR
VERSION:2.0
PRODID:-//Munich Startup - ECPv5.5.0//NONSGML v1.0//EN
CALSCALE:GREGORIAN
METHOD:PUBLISH
X-WR-CALNAME:Munich Startup
X-ORIGINAL-URL:https://cms.munich-startup.net
X-WR-CALDESC:Veranstaltungen für Munich Startup
BEGIN:VTIMEZONE
TZID:Europe/Berlin
BEGIN:DAYLIGHT
TZOFFSETFROM:+0100
TZOFFSETTO:+0200
TZNAME:CEST
DTSTART:20260329T010000
END:DAYLIGHT
BEGIN:STANDARD
TZOFFSETFROM:+0200
TZOFFSETTO:+0100
TZNAME:CET
DTSTART:20261025T010000
END:STANDARD
END:VTIMEZONE
BEGIN:VEVENT
DTSTART;TZID=Europe/Berlin:20260423T133000
DTEND;TZID=Europe/Berlin:20260423T143000
DTSTAMP:20260424T131253
CREATED:20260305T084830Z
LAST-MODIFIED:20260326T110641Z
UID:118738-1776951000-1776954600@cms.munich-startup.net
SUMMARY:Online: Steuern für Startups - Welche steuerrechtlichen Themen sind für Startups wichtig?
DESCRIPTION:Steuern für Startups – Welche steuerrechtlichen Themen sind für Startups wichtig? \nSteuern sind ein lästiges und kompliziertes Thema. Da Startups ihr Geschäftskonzept oftmals erst noch finden und auch durchaus komplexe Geschäftsvorfälle (u.a. Finanzierungsrunden\, Gesellschafterwechsel) haben ist es wichtig\, dass Ihr als GründerInnen ein vernünftiges steuerliches Grundverständnis habt\, auch wenn ihr eineN SteuerberaterIn an eurer Seite habt. Dieses Tutorial soll hierzu ein erster Schritt sein. \nWie die Besteuerung einer Kapitalgesellschaft grundsätzlich funktioniert\, wieso Umsatzsteuer bares Geld für euer Unternehmen bedeutet und welche steuerlichen Sonderthemen es bei Startups gibt\, thematisieren wir in diesem Tutorial: \n\nWie läuft die Gründung einer GmbH ab?\nEine Holding (mit)gründen oder nicht?\nMit welchen steuerlichen Themen sollte ich mich auskennen (Umsatzsteuer\, Ertragssteuer\, Körperschafts- & Gewerbesteuer\, Verlustnutzung & Verlustvortrag\, Untergang steuerlicher Verluste § 8c KStG)?\nExkurs: Sozialversicherung\n\nHier findet Ihr mehr Informationen zu der Veranstaltung.
URL:https://cms.munich-startup.net/veranstaltung/steuern-fuer-startups-0426/
LOCATION:Online
ATTACH;FMTTYPE=image/png:https://cms.munich-startup.net/wp-content/uploads/2023/03/BayStartUP_Logotype_pos_RGB-2.png
END:VEVENT
END:VCALENDAR