BEGIN:VCALENDAR
VERSION:2.0
PRODID:-//Munich Startup - ECPv5.5.0//NONSGML v1.0//EN
CALSCALE:GREGORIAN
METHOD:PUBLISH
X-WR-CALNAME:Munich Startup
X-ORIGINAL-URL:https://cms.munich-startup.net
X-WR-CALDESC:Veranstaltungen für Munich Startup
BEGIN:VTIMEZONE
TZID:Europe/Berlin
BEGIN:DAYLIGHT
TZOFFSETFROM:+0100
TZOFFSETTO:+0200
TZNAME:CEST
DTSTART:20160327T010000
END:DAYLIGHT
BEGIN:STANDARD
TZOFFSETFROM:+0200
TZOFFSETTO:+0100
TZNAME:CET
DTSTART:20161030T010000
END:STANDARD
END:VTIMEZONE
BEGIN:VEVENT
DTSTART;TZID=Europe/Berlin:20161208T173000
DTEND;TZID=Europe/Berlin:20161208T210000
DTSTAMP:20260425T013056
CREATED:20161117T134537Z
LAST-MODIFIED:20161121T094115Z
UID:16464-1481218200-1481230800@cms.munich-startup.net
SUMMARY:Startup trifft Handwerk - Junge Unternehmen präsentieren die Technologien der Zukunft
DESCRIPTION:Startup trifft Handwerk – Junge Unternehmen präsentieren die Technologien der Zukunft\nKostenlose Informations- und Netzwerkveranstaltung der Handwerkskammer für München und Oberbayern in Kooperation mit Munich Startup \nProgramm\n17:30 Uhr    Einlass \n18:00 Uhr    Begrüßung \nDr. Hartwig von Bülow\, Handwerkskammer für München und Oberbayern \nGabriele Böhmer\, Redaktionsleiterin von Munich Startup \n18:15 Uhr    Wie das Handwerk und Startups voneinander profitieren können \nRegina Bruckschlögl\, Redakteurin bei Munich Startup zusammen mit \nGeorg Räß\, Beauftragter für Innovation und Technologie der Handwerkskammer für München und Oberbayern \n18:30 Uhr    „Wir bieten…“ Kurzpräsentationen der Startups \n\n„…mehr Sicherheit für das Arbeiten in der Höhe“\, Auroco GmbH\, München\n„…effektive Online-Schichtplanung mit automatischem Datenabgleich“\, Enubo GmbH\, München\n„…schnelle Computerhilfe für jedermann“\, Expertiger GmbH\, München\n„…traditionelles handwerkliches Bier\, dank Crowdinvesting“\, Giesinger Bräu\, München\n„…1500 m² offene Hightech-Werkstatt zum Bau von Prototypen“\, Makerspace GmbH\, Garching\n„…den ersten Lasercutter für den Schreibtisch“\, Mr Beam Lasers UG\, München\n„…den intelligenten Arbeitshandschuh für mehr Effizienz“\, ProGlove GmbH\, München\n„…verschiedene Lösungen zur Digitalisierung kleiner Unternehmen“\, Shore GmbH\, München\n„…die Service-Software für den mobilen Kundendienst“\, Simplias GmbH\, Leipzig\n„…Lösungen zur einfacheren Bedienung von Arbeitsmaschinen“\, Vemcon GmbH\, München\n„…die Kommunikationsplattform für Kundendienst & Service-Technik“\, Viscopic GmbH\, München\n„…die perfekte Brille\, dank 3D Scan und Lasersintern“\, Youmawo GmbH\, Lauingen\n\n19:30 Uhr    Innovationsmesse & Imbiss \nStartups stehen den Besuchern für persönliche Gespräche zur Verfügung \n21:00 Uhr    Voraussichtliches Veranstaltungsende \nEine Anmeldung ist bis zum 5. Dezember 2016 möglich
URL:https://cms.munich-startup.net/veranstaltung/startup-trifft-handwerk-junge-unternehmen-praesentieren-die-technologien-der-zukunft/
LOCATION:Handwerkskammer für München und Oberbayern\, Max-Joseph-Straße 4\, München\, 80333
ATTACH;FMTTYPE=image/jpeg:https://cms.munich-startup.net/wp-content/uploads/2016/01/notebook.jpg
GEO:48.143271;11.5704708
X-APPLE-STRUCTURED-LOCATION;VALUE=URI;X-ADDRESS=Handwerkskammer für München und Oberbayern Max-Joseph-Straße 4 München 80333;X-APPLE-RADIUS=500;X-TITLE=Max-Joseph-Straße 4:geo:11.5704708,48.143271
END:VEVENT
END:VCALENDAR