BEGIN:VCALENDAR
VERSION:2.0
PRODID:-//Munich Startup - ECPv5.5.0//NONSGML v1.0//EN
CALSCALE:GREGORIAN
METHOD:PUBLISH
X-WR-CALNAME:Munich Startup
X-ORIGINAL-URL:https://cms.munich-startup.net
X-WR-CALDESC:Veranstaltungen für Munich Startup
BEGIN:VTIMEZONE
TZID:Europe/Berlin
BEGIN:DAYLIGHT
TZOFFSETFROM:+0100
TZOFFSETTO:+0200
TZNAME:CEST
DTSTART:20240331T010000
END:DAYLIGHT
BEGIN:STANDARD
TZOFFSETFROM:+0200
TZOFFSETTO:+0100
TZNAME:CET
DTSTART:20241027T010000
END:STANDARD
END:VTIMEZONE
BEGIN:VEVENT
DTSTART;TZID=Europe/Berlin:20241024T180000
DTEND;TZID=Europe/Berlin:20241024T210000
DTSTAMP:20260426T003039
CREATED:20241002T064045Z
LAST-MODIFIED:20241002T064045Z
UID:105090-1729792800-1729803600@cms.munich-startup.net
SUMMARY:Startup trifft Handwerk 2024
DESCRIPTION:Startup trifft Handwerk – Zukunftstechnologien\, Geschäftsmodelle und kreative Schmankerl \nIhr seid herzlich eingeladen zu unserer außergewöhnlichen Veranstaltung\, die die Welten des Handwerks und der innovativen Technologie-Startups zusammenbringt. \nDas Programm auf einen Blick\n17:30 Uhr      Einlass \n18:00 Uhr      Begrüßung \n18:05 Uhr      Keynote \n18:15 Uhr      Kurzpräsentationen \n19:10 Uhr      Unterstützungsangebote für das Handwerk und für Startups\nGeorg Räß\, Handwerkskammer für München und Oberbayern \n19:20 Uhr      Netzwerken\nDie Startups stehen den BesucherInnen für persönliche Gespräche zur Verfügung. Dazu gibt es Schmankerl von den Lebensmittelstartups. \n21:00 Uhr      Voraussichtliches Veranstaltungsende \nFolgende Unternehmen bieten Euch:\n„…25% mehr Zeit für Ihren Handwerksbetrieb“\, Definitiv Digital\, Rosenheim\n„…Steckverbinder zur schnellen Montage von Fertigteilwänden in Holz und Beton“\, BPSO\, Waldkraiburg\n„…effiziente Kundenkommunikation mit KI“\, Branchly\, München\n„…rechtssichere Webseiten mit hoher Sichtbarkeit erstellt in Minuten“\, Unvyl\, Dachau\n„…die erste automatische Bindung für Skitouren“\, Qwicklane\, Egling\n„…Beschichtungsroboter für Neubau und Renovierung“\, Nova Spraytec\, München\n„…Bio Kakaobutter Farben für Konditoren & Chocolatiers “\, CeresAlpin\, Schongau\n„…Europas größte Plattform für Baustellen Jobs“\, Crafthunt\, München\n„…Stromspeicher für Gewerbe aus Autobatterien“\, Stabl Energy\, München \nDazu gibt es Schmankerl von diesen kreativen Lebensmittelhandwerkern zu probieren: \n„…Bio Sauerteig Spezialitäten aus der Tagbäckerei “\, Brotquelle\, Prien am Chiemsee\n„…Genuss à la Moser\, maximal regional und transparent“\, Metzgerei Moser\, Landsberg am Lech\n„…die rollende Bar gegen das Kneipensterben\,“ Rolling Boazn\, Neumarkt-Sankt Veit \nHier findet Ihr mehr Informationen zu der Veranstaltung.
URL:https://cms.munich-startup.net/veranstaltung/startup-trifft-handwerk-2024/
LOCATION:Handwerkskammer für München und Oberbayern\, Max-Joseph-Straße 4\, München\, 80333
ATTACH;FMTTYPE=image/jpeg:https://cms.munich-startup.net/wp-content/uploads/2023/10/DSC03960.jpg
GEO:48.143271;11.5704708
X-APPLE-STRUCTURED-LOCATION;VALUE=URI;X-ADDRESS=Handwerkskammer für München und Oberbayern Max-Joseph-Straße 4 München 80333;X-APPLE-RADIUS=500;X-TITLE=Max-Joseph-Straße 4:geo:11.5704708,48.143271
END:VEVENT
END:VCALENDAR