BEGIN:VCALENDAR
VERSION:2.0
PRODID:-//Munich Startup - ECPv5.5.0//NONSGML v1.0//EN
CALSCALE:GREGORIAN
METHOD:PUBLISH
X-WR-CALNAME:Munich Startup
X-ORIGINAL-URL:https://cms.munich-startup.net
X-WR-CALDESC:Veranstaltungen für Munich Startup
BEGIN:VTIMEZONE
TZID:Europe/Berlin
BEGIN:DAYLIGHT
TZOFFSETFROM:+0100
TZOFFSETTO:+0200
TZNAME:CEST
DTSTART:20230326T010000
END:DAYLIGHT
BEGIN:STANDARD
TZOFFSETFROM:+0200
TZOFFSETTO:+0100
TZNAME:CET
DTSTART:20231029T010000
END:STANDARD
END:VTIMEZONE
BEGIN:VEVENT
DTSTART;TZID=Europe/Berlin:20231012T173000
DTEND;TZID=Europe/Berlin:20231012T210000
DTSTAMP:20260424T235747
CREATED:20230912T132342Z
LAST-MODIFIED:20230913T073425Z
UID:94318-1697131800-1697144400@cms.munich-startup.net
SUMMARY:Startup trifft Handwerk 2023
DESCRIPTION:Startup trifft Handwerk – Zukunftstechnologien\, Geschäftsmodelle und kreative Schmankerl \nIhr seid herzlich eingeladen zu unserer außergewöhnlichen Veranstaltung\, die die Welten des Handwerks und der innovativen Technologie-Startups zusammenbringt. \n„Startup trifft Handwerk“ bietet Euch die einzigartige Gelegenheit\, neue Technologien und Geschäftsmodelle kennenzulernen\, die speziell auf Eure Bedürfnisse zugeschnitten sind. \nProgramm\n17:30 Uhr   Einlass \n18:00 Uhr   Begrüßung \n18:05 Uhr   Keynote \nYOU MAWO – In acht Jahren von der Idee zur innovativsten Brillenmarke „made in Germany“ Optikermeister\, Gründer und Geschäftsführer Sebastian Zenetti zeigt\, wie das geht \n18:20 Uhr   Kurzpräsentationen \n19:20 Uhr   Unterstützungsangebote für das Handwerk und Startups \n19:25 Uhr   Netzwerken mit Gelegenheit die Technologien zu testen und die Schmankerl zu kosten \n21:00 Uhr   Voraussichtliches Veranstaltungsende \nFolgende Unternehmen bieten Euch:\n\n„…Künstliche Autonome Intelligenz zur Automatisierung Ihrer Prozesse“\, Alphabots \, München\n„…den digitalen Assistenten zur Aufnahme von Kundenanfragen“\, Meiti Handwerk\, München\n„…Lastenräder völlig neu gedacht“\, Sayjecycle mit Alonuki Frameworks\, München\n„…ein Warnsystem vor Feinstaubbelastung bei der Arbeit“\, Dustlight\, München\n„…die Plattform zur Vernetzung von Auftraggebern und Subunternehmern“\, Cocrafter\, Erding\n„…die Automatisierung von Bestellabwicklung und Belegabgleich“\, Initdata\, München\n„…das Ende von Warteschlangen im Ladengeschäft“\, Toordr\, Antholing\n„…präzise Absatzprognosen mit künstlicher Intelligenz“\, Delicious Data\, München\n„…3D-Gebäudemodelle auf Knopfdruck“\, Ikarus.Tech\, Stuttgart\n\nDazu gibt es Schmankerl von diesen kreativen Lebensmittelhandwerkern zu probieren: \n\n„…die Symbiose aus deutscher Braukunst und American Craft Beer“ Hopfenhäcker Kreativbrauerei\, München\n„…echtes Fischhandwerk aus den bayerischen Alpen“\, Platzfisch\, Mittenwald\n\nHier findet Ihr mehr Informationen zu der Veranstaltung.
URL:https://cms.munich-startup.net/veranstaltung/startup-trifft-handwerk-2023/
LOCATION:Handwerkskammer für München und Oberbayern\, Max-Joseph-Straße 4\, München\, 80333
ATTACH;FMTTYPE=image/jpeg:https://cms.munich-startup.net/wp-content/uploads/2023/09/Startup-trifft-Handwerk-2023.jpg
GEO:48.143271;11.5704708
X-APPLE-STRUCTURED-LOCATION;VALUE=URI;X-ADDRESS=Handwerkskammer für München und Oberbayern Max-Joseph-Straße 4 München 80333;X-APPLE-RADIUS=500;X-TITLE=Max-Joseph-Straße 4:geo:11.5704708,48.143271
END:VEVENT
END:VCALENDAR