BEGIN:VCALENDAR
VERSION:2.0
PRODID:-//Munich Startup - ECPv5.5.0//NONSGML v1.0//EN
CALSCALE:GREGORIAN
METHOD:PUBLISH
X-WR-CALNAME:Munich Startup
X-ORIGINAL-URL:https://cms.munich-startup.net
X-WR-CALDESC:Veranstaltungen für Munich Startup
BEGIN:VTIMEZONE
TZID:Europe/Berlin
BEGIN:DAYLIGHT
TZOFFSETFROM:+0100
TZOFFSETTO:+0200
TZNAME:CEST
DTSTART:20190331T010000
END:DAYLIGHT
BEGIN:STANDARD
TZOFFSETFROM:+0200
TZOFFSETTO:+0100
TZNAME:CET
DTSTART:20191027T010000
END:STANDARD
END:VTIMEZONE
BEGIN:VEVENT
DTSTART;TZID=Europe/Berlin:20190509T170000
DTEND;TZID=Europe/Berlin:20190509T200000
DTSTAMP:20260424T195926
CREATED:20190430T105608Z
LAST-MODIFIED:20220228T105215Z
UID:47726-1557421200-1557432000@cms.munich-startup.net
SUMMARY:Startup Teens
DESCRIPTION:Am Donnerstag\, 9. Mai 2019\, haben 100 Schülerinnen und Schüler aus München die Gelegenheit ihre unternehmerischen Vorbilder zu treffen. Die Non-Profit-Initiative STARTUP TEENS veranstaltet ein Event\, um Schülerinnen und Schüler zwischen 14 und 19 Jahren für unternehmerisches Denken & Handeln zu begeistern. Egal\, ob sie später Gründer\, Unternehmensnachfolger oder unternehmerisch denkende Angestellte werden möchten. Die Jugendlichen erhalten Einblick in verschiedene Berufsbilder\, bekommen praxisnahe Tipps und Kontaktmöglichkeiten in das STARTUP TEENS-Netzwerk. \nAgenda\nDie Veranstaltung selbst wird aus 3 Teilen bestehen. Ab 17.30 Uhr diskutiert der Gründer des Jahres 2018\, Rubin Lind (skills4school)\, mit dem bayerischen Wirtschaftsminister Hubert Aiwanger\, den Gründern der erfolgreichsten Lernapp Deutschlands\, Alex Giesecke & Nico Schork (simpleclub)\, dem Geschäftsführer des Startup-freundlichsten Orts Münchens\, Dr. Florian Mann (WERK1)\, und der Gründerin Maria Sievert (inveox GmbH). Anschließend haben die Schülerinnen und Schüler die Möglichkeit\, den Gästen auf dem Podium Fragen zu stellen. Von 19.00 bis 20.00 Uhr können die Teilnehmer die Talkgäste und weitere geladene Gäste im persönlichen Gespräch erleben und sich mit ihnen austauschen. \nEinlass ist ab 17:00 Uhr. \nAnmeldung\nUm einen der begehrten Plätze zu erhalten\, können sich die Jugendlichen unter susanne@startupteens.de anmelden. Sie müssen auf eine Schule in Deutschland gehen (alle Schulformen sind zugelassen). Schulklassen können sich bis max. 25 Personen anmelden.
URL:https://cms.munich-startup.net/veranstaltung/startup-teens/
LOCATION:WERK1\, Am Kartoffelgarten 14\, München\, 81671\, Germany
ATTACH;FMTTYPE=image/jpeg:https://cms.munich-startup.net/wp-content/uploads/2019/04/startup-teens-logo.jpg
END:VEVENT
END:VCALENDAR