BEGIN:VCALENDAR
VERSION:2.0
PRODID:-//Munich Startup - ECPv5.5.0//NONSGML v1.0//EN
CALSCALE:GREGORIAN
METHOD:PUBLISH
X-WR-CALNAME:Munich Startup
X-ORIGINAL-URL:https://cms.munich-startup.net
X-WR-CALDESC:Veranstaltungen für Munich Startup
BEGIN:VTIMEZONE
TZID:Europe/Berlin
BEGIN:DAYLIGHT
TZOFFSETFROM:+0100
TZOFFSETTO:+0200
TZNAME:CEST
DTSTART:20240331T010000
END:DAYLIGHT
BEGIN:STANDARD
TZOFFSETFROM:+0200
TZOFFSETTO:+0100
TZNAME:CET
DTSTART:20241027T010000
END:STANDARD
END:VTIMEZONE
BEGIN:VEVENT
DTSTART;TZID=Europe/Berlin:20240723T183000
DTEND;TZID=Europe/Berlin:20240723T220000
DTSTAMP:20260426T045547
CREATED:20240709T113751Z
LAST-MODIFIED:20240709T134453Z
UID:102979-1721759400-1721772000@cms.munich-startup.net
SUMMARY:Startup Night im Pioneer Lab
DESCRIPTION:Das Pioneer Lab der Hochschule Fresenius lädt zur Startup Night ein. \nUnsere Startups aus den Inkubatoren- und Accelerator-Programmen machen auf ihrer Tour Halt in München! \n25 Startups stellen sich vor und freuen sich auf die Möglichkeit\, sich mit Euch auszutauschen und zuvernetzen.\nMöchtest Du mehr über unsere Arbeit und Kooperationsmöglichkeiten erfahren und unsere Startups kennenlernen\, dann komm vorbei! \nWeitere Information findest Du hier: pioneerlab@hs-fresenius.de \nHier findet Ihr mehr Informationen zu der Veranstaltung.
URL:https://cms.munich-startup.net/veranstaltung/startup-night-im-pioneer-lab/
LOCATION:Pioneer Lab München\, Infanteriestraße 11\, München\, 80797\, Deutschland
ATTACH;FMTTYPE=image/jpeg:https://cms.munich-startup.net/wp-content/uploads/2024/07/Startup-Night-im-Pioneer-Lab.jpg
END:VEVENT
END:VCALENDAR