BEGIN:VCALENDAR
VERSION:2.0
PRODID:-//Munich Startup - ECPv5.5.0//NONSGML v1.0//EN
CALSCALE:GREGORIAN
METHOD:PUBLISH
X-WR-CALNAME:Munich Startup
X-ORIGINAL-URL:https://cms.munich-startup.net
X-WR-CALDESC:Veranstaltungen für Munich Startup
BEGIN:VTIMEZONE
TZID:Europe/Berlin
BEGIN:DAYLIGHT
TZOFFSETFROM:+0100
TZOFFSETTO:+0200
TZNAME:CEST
DTSTART:20170326T010000
END:DAYLIGHT
BEGIN:STANDARD
TZOFFSETFROM:+0200
TZOFFSETTO:+0100
TZNAME:CET
DTSTART:20171029T010000
END:STANDARD
END:VTIMEZONE
BEGIN:VEVENT
DTSTART;TZID=Europe/Berlin:20170516T180000
DTEND;TZID=Europe/Berlin:20170516T200000
DTSTAMP:20260424T212633
CREATED:20170120T083503Z
LAST-MODIFIED:20170120T083503Z
UID:18534-1494957600-1494964800@cms.munich-startup.net
SUMMARY:StartUp München - Etappe 3
DESCRIPTION:StartUp München bietet Gründerinnen und Gründern aus der Region München Unterstützung bei der Erstellung ihres Geschäftsplans. In fünf Themenabenden werden die wichtigsten Grundlagen zu „Produkt – Kunde – Markt“\, „Marketing“ und „Finanzierung“ vermittelt. Erfahrene Gründer berichten von ihren Erfahrungen und geben Tipps aus der Praxis. \nSchnell\nIhr erhaltet in wenigen Wochen die wichtigsten Informationen und Kontakte zur Erstellung und Weiterentwicklung Eures Geschäftsplans. \nDirekt\nIhr kommt in persönlichen Kontakt mit Gründern\, Beratern und Unternehmern und trefft potentielle Geschäftspartner\, Kunden und Dienstleister. \nEinfach\nIhr bekommt konkrete und bewährte Tipps aus der Praxis. \nAm Ende der StartUp München Veranstaltungsreihe erhaltet Ihr ein Teilnehmerzertifikat\, wenn Ihr mindestens drei von fünf Veranstaltungen besucht habt. \nIm Anschluss an StartUp München könnt Ihr Feedback von erfahrenen Gründungsexperten zu Eurem Geschäftsplan erhalten. Wendet Euch dafür an das Münchner Existenzgründungsbüro (MEB). \nÜbersicht der Themenabende\n25. April 2017 Startschuss: Bausteine eines Businessplans\, Praxisbeispiele \n02. Mai 2017 Etappe 1: Produkt – Kunde – Markt \n09. Mai 2017 Etappe 2: Marketing und Vertrieb \n16. Mai 2017 Etappe 3: Finanzen \n23. Mai 2017 Endspurt: Best Practice und Networking \nHier findet Ihr mehr Informationen zu der Veranstaltungsreihe.
URL:https://cms.munich-startup.net/veranstaltung/startup-muenchen-etappe-3/
LOCATION:Kreissparkasse München\, Sendlinger Tor Platz 1\, München\, 80336
ATTACH;FMTTYPE=image/jpeg:https://cms.munich-startup.net/wp-content/uploads/2015/03/StartUP-Muenchen.jpg
GEO:48.1331742;11.5674453
X-APPLE-STRUCTURED-LOCATION;VALUE=URI;X-ADDRESS=Kreissparkasse München Sendlinger Tor Platz 1 München 80336;X-APPLE-RADIUS=500;X-TITLE=Sendlinger Tor Platz 1:geo:11.5674453,48.1331742
END:VEVENT
END:VCALENDAR