BEGIN:VCALENDAR
VERSION:2.0
PRODID:-//Munich Startup - ECPv5.5.0//NONSGML v1.0//EN
CALSCALE:GREGORIAN
METHOD:PUBLISH
X-WR-CALNAME:Munich Startup
X-ORIGINAL-URL:https://cms.munich-startup.net
X-WR-CALDESC:Veranstaltungen für Munich Startup
BEGIN:VTIMEZONE
TZID:Europe/Berlin
BEGIN:DAYLIGHT
TZOFFSETFROM:+0100
TZOFFSETTO:+0200
TZNAME:CEST
DTSTART:20160327T010000
END:DAYLIGHT
BEGIN:STANDARD
TZOFFSETFROM:+0200
TZOFFSETTO:+0100
TZNAME:CET
DTSTART:20161030T010000
END:STANDARD
END:VTIMEZONE
BEGIN:VEVENT
DTSTART;TZID=Europe/Berlin:20160412T180000
DTEND;TZID=Europe/Berlin:20160412T200000
DTSTAMP:20260424T221001
CREATED:20160203T140333Z
LAST-MODIFIED:20240410T110649Z
UID:7639-1460484000-1460491200@cms.munich-startup.net
SUMMARY:StartUp München - Etappe 1: Produkt – Kunde – Markt
DESCRIPTION:StartUp München bietet Gründerinnen und Gründern aus der Region München Unterstützung bei der Erstellung ihres Geschäftsplans. In fünf Themenabenden werden Ihnen die wichtigsten Grundlagen zu „Produkt – Kunde – Markt“\, „Marketing“ und „Finanzierung“ vermittelt. \n\nAm Ende der Startup München Veranstaltungsreihe erhalten Sie ein Teilnehmerzertifikat\, wenn Sie mindestens drei von fünf Veranstaltungen besucht haben.  \nIm Anschluss an StartUp München können Sie auf Wunsch ein Feedback von erfahrenen Gründungsexperten zu Ihrem Geschäftsplan erhalten. \n  \nProgramm – Etappe 1: Produkt – Kunde – Markt\n\nWie analysiere ich Markt\, Branche und Wettbewerb?\nDesign\, Know-how\, Erfindungen\, Produkte – Welcher Schutz für was?\n\n  \nÜbersicht der Themenabende\n5. April 2016 Startschuss: Bausteine eines Businessplans\, Praxisbeispiele 18.00 – 20.00 Uhr \n12. April 2016 Etappe 1: Produkt – Kunde – Markt\, 18.00 – 20.00 Uhr \n21. April 2016 Etappe 2: Marketing und Vertrieb\, 18.30 – 20.30 Uhr \n26. April 2016 Etappe 3: Finanzen\, 18.00 – 20.00 Uhr \n03. Mai 2015 Endspurt: Best Practice und Networking\, 18.00 – 20.00 Uhr \n  \nHier findet Ihr mehr Informationen zu StartUp München\, die Themenübersicht und die Anmeldung. \n  \nÜber StartUp München: \nStartUp München – Qualifizierungsplattform / Kompetenznetzwerk für alle Gründer Münchens – ist eine gemeinsame Initiative von Industrie- und Handelskammer für München und Oberbayern\, Landeshauptstadt München\, Referat für Arbeit und Wirtschaft\, Stadtsparkasse München\, Kreissparkasse München Starnberg Ebersberg\, GründerRegio M und Wirtschaftsjunioren München\, zur Förderung von Existenzgründern in der Region München. \n 
URL:https://cms.munich-startup.net/veranstaltung/startup-muenchen-etappe-1/
ATTACH;FMTTYPE=image/jpeg:https://cms.munich-startup.net/wp-content/uploads/2015/03/StartUP-Muenchen.jpg
END:VEVENT
END:VCALENDAR