BEGIN:VCALENDAR
VERSION:2.0
PRODID:-//Munich Startup - ECPv5.5.0//NONSGML v1.0//EN
CALSCALE:GREGORIAN
METHOD:PUBLISH
X-WR-CALNAME:Munich Startup
X-ORIGINAL-URL:https://cms.munich-startup.net
X-WR-CALDESC:Veranstaltungen für Munich Startup
BEGIN:VTIMEZONE
TZID:Europe/Berlin
BEGIN:DAYLIGHT
TZOFFSETFROM:+0100
TZOFFSETTO:+0200
TZNAME:CEST
DTSTART:20250330T010000
END:DAYLIGHT
BEGIN:STANDARD
TZOFFSETFROM:+0200
TZOFFSETTO:+0100
TZNAME:CET
DTSTART:20251026T010000
END:STANDARD
END:VTIMEZONE
BEGIN:VEVENT
DTSTART;TZID=Europe/Berlin:20250603T180000
DTEND;TZID=Europe/Berlin:20250603T220000
DTSTAMP:20260425T125547
CREATED:20250127T081510Z
LAST-MODIFIED:20250127T081510Z
UID:107365-1748973600-1748988000@cms.munich-startup.net
SUMMARY:Startup Demo Night
DESCRIPTION:Innovationen zum Anfassen und Ausprobieren! \nAuf einem der größten Events der Münchener Gründerszene präsentieren rund 70 Startups live an Ausstellerständen ihre innovativen Lösungen und Prototypen. Alle Branchen sind vertreten – von HighTech über Bio Sciences\, IoT\, Mobilität\, Lifestyle oder Gesundheit bis Sport. \nLerne eine Vielzahl spannender Startups unterschiedlichster Branchen kennen.\nProbiere die Ideen und Produkte selbst aus.\nTrete mit Gründerteams\, Kapitalgebern und Unternehmensvertretern in entspannter Networking-Atmosphäre in Kontakt. \nHier findet Ihr mehr Informationen zu der Veranstaltung.
URL:https://cms.munich-startup.net/veranstaltung/startup-demo-night-2025/
LOCATION:TonHalle\, Atelierstraße 24\, München\, 81671
ATTACH;FMTTYPE=image/jpeg:https://cms.munich-startup.net/wp-content/uploads/2025/01/Vorlage_Events-Screen-22.jpg
GEO:48.1237883;11.6088206
X-APPLE-STRUCTURED-LOCATION;VALUE=URI;X-ADDRESS=TonHalle Atelierstraße 24 München 81671;X-APPLE-RADIUS=500;X-TITLE=Atelierstraße 24:geo:11.6088206,48.1237883
END:VEVENT
END:VCALENDAR