BEGIN:VCALENDAR
VERSION:2.0
PRODID:-//Munich Startup - ECPv5.5.0//NONSGML v1.0//EN
CALSCALE:GREGORIAN
METHOD:PUBLISH
X-WR-CALNAME:Munich Startup
X-ORIGINAL-URL:https://cms.munich-startup.net
X-WR-CALDESC:Veranstaltungen für Munich Startup
BEGIN:VTIMEZONE
TZID:Europe/Berlin
BEGIN:DAYLIGHT
TZOFFSETFROM:+0100
TZOFFSETTO:+0200
TZNAME:CEST
DTSTART:20240331T010000
END:DAYLIGHT
BEGIN:STANDARD
TZOFFSETFROM:+0200
TZOFFSETTO:+0100
TZNAME:CET
DTSTART:20241027T010000
END:STANDARD
END:VTIMEZONE
BEGIN:VEVENT
DTSTART;TZID=Europe/Berlin:20240611T140000
DTEND;TZID=Europe/Berlin:20240611T210000
DTSTAMP:20260426T062026
CREATED:20240403T124224Z
LAST-MODIFIED:20240403T124346Z
UID:99225-1718114400-1718139600@cms.munich-startup.net
SUMMARY:Start-Up Demo Day
DESCRIPTION:Join us for an innovation-driven day with stirring startup pitches\, fantastic networking opportunities\, and exciting speakers at the Start-up Demo Day by UnternehmerTUM! \nThis inspiring event is for the selected members of the UnternehmerTUM ecosystem\, investors and established companies\, where they have the opportunity to meet the 34 most promising international high-tech startups from the TechFounders accelerator and XPRENEURS incubator programs\, developing in the fields of Built Environment\, AI\, Future of Work\, Sustainability\, and DeepTech. \nStartup Pitch Clusters:\n#1 Crafting Sustainable Spaces: Built Environment Innovations\n#2 Charting New Horizons: AI Solutions Ahead\n#3 Navigating the New Normal: This is the Future of Work\n#4 Creating a Greener Tomorrow: Sustainability in Action\n#5 Challenging the Status-Quo: Deep-Tech at the Forefront \nRequest your invitation to the Start-Up Demo Day directly here. \nHier findet Ihr mehr Informationen zu der Veranstaltung.
URL:https://cms.munich-startup.net/veranstaltung/startup-demo-day/
LOCATION:Munich Urban Colab\, Freddie-Mercury-Straße 5\, München\, 80797
ATTACH;FMTTYPE=image/jpeg:https://cms.munich-startup.net/wp-content/uploads/2024/04/DD-1200x630_02.jpg
END:VEVENT
END:VCALENDAR