BEGIN:VCALENDAR
VERSION:2.0
PRODID:-//Munich Startup - ECPv5.5.0//NONSGML v1.0//EN
CALSCALE:GREGORIAN
METHOD:PUBLISH
X-WR-CALNAME:Munich Startup
X-ORIGINAL-URL:https://cms.munich-startup.net
X-WR-CALDESC:Veranstaltungen für Munich Startup
BEGIN:VTIMEZONE
TZID:Europe/Berlin
BEGIN:DAYLIGHT
TZOFFSETFROM:+0100
TZOFFSETTO:+0200
TZNAME:CEST
DTSTART:20200329T010000
END:DAYLIGHT
BEGIN:STANDARD
TZOFFSETFROM:+0200
TZOFFSETTO:+0100
TZNAME:CET
DTSTART:20201025T010000
END:STANDARD
END:VTIMEZONE
BEGIN:VEVENT
DTSTART;TZID=Europe/Berlin:20200630T153000
DTEND;TZID=Europe/Berlin:20200630T180000
DTSTAMP:20260424T222356
CREATED:20200602T062634Z
LAST-MODIFIED:20200602T062848Z
UID:61001-1593531000-1593540000@cms.munich-startup.net
SUMMARY:Online: Munich Summer Summit - Startup Creasphere Expo Day
DESCRIPTION:Join us for the Startup Creasphere Expo of Batch 4\, the Health part of THE virtual event of the summer\, our Munich Summer Summit 2020. Learn how the healthcare sector is leveraging technology and data to drive customer value or create new business models in these modern times. \nStartup Creasphere is proud to present the results of our Batch 4 startups that have worked together with Roche and Sanofi in our health-focused innovation program. \nHier findet Ihr mehr Informationen zu der Veranstaltung.
URL:https://cms.munich-startup.net/veranstaltung/startup-creasphere-expo-day/
LOCATION:Online
ATTACH;FMTTYPE=image/jpeg:https://cms.munich-startup.net/wp-content/uploads/2020/05/Startup-Creasphere-Expo-Day.jpg
END:VEVENT
END:VCALENDAR