BEGIN:VCALENDAR
VERSION:2.0
PRODID:-//Munich Startup - ECPv5.5.0//NONSGML v1.0//EN
CALSCALE:GREGORIAN
METHOD:PUBLISH
X-WR-CALNAME:Munich Startup
X-ORIGINAL-URL:https://cms.munich-startup.net
X-WR-CALDESC:Veranstaltungen für Munich Startup
BEGIN:VTIMEZONE
TZID:Europe/Berlin
BEGIN:DAYLIGHT
TZOFFSETFROM:+0100
TZOFFSETTO:+0200
TZNAME:CEST
DTSTART:20240331T010000
END:DAYLIGHT
BEGIN:STANDARD
TZOFFSETFROM:+0200
TZOFFSETTO:+0100
TZNAME:CET
DTSTART:20241027T010000
END:STANDARD
END:VTIMEZONE
BEGIN:VEVENT
DTSTART;TZID=Europe/Berlin:20240808T183000
DTEND;TZID=Europe/Berlin:20240808T210000
DTSTAMP:20260426T031849
CREATED:20240801T064255Z
LAST-MODIFIED:20240801T064647Z
UID:103647-1723141800-1723150800@cms.munich-startup.net
SUMMARY:Start2 Connect Night
DESCRIPTION:After our amazing Kickoff in Berlin at the beginning of June\, we are now hosting our next Start2 Connect Night! Join us at Start2 Group GmbH in our Munich office on August 8\, 2024 for an exciting event full of networking opportunities. \nWhy you should join:\nNo matter whether you’re a seasoned Entrepreneur or just starting out\, whether you are an aspiring Startup founder\, an active Investor in (Tech) Startups or simply interested in the Startup Ecosystem\, this event is for you. It is designed for making valuable connections and gaining insights into Entrepreneurship and the Munich Startup Ecosystem. Don’t miss out on this chance to connect with like-minded individuals and take your Startup Business to the next level. See you there! \nWhat to expect:\nNetworking Opportunities: Connect with like-minded individuals\, tech entrepreneurs\, potential collaborators\, and industry professionals. Exchange ideas\, experiences\, and business cards in a relaxed and supportive environment. \nMeet Startups\, Mentors\, Corporates and Investors: Take the chance to get to know not only Startups from the current cohorts of our Startup Programs but also other stakeholders\, expand your network and possibly find new opportunities for collaboration or funding. \nAlumni Reunion: Reconnect with fellow founders from our Start2 programs\, share stories\, catch up\, and reflect about your journey with Start2. \nWhom you will meet there:\n\nTech Startups from the current Start2raise Startup Program\nDeep Tech Startups from the current MPF Start-up Accelerator (Start-up Program for the Max Planck Foundation)\nAlumni (Tech) Startups from former programs\nEntrepreneurs from the Munich Startup Ecosystem\nMentors\, Corporates\, Investors & Partners from our extensive network\nOur awesome team at Start2 Group\n\nHier findet Ihr mehr Informationen zu der Veranstaltung.
URL:https://cms.munich-startup.net/veranstaltung/start2-connect-night/
LOCATION:Start2 Group\, Balanstraße 73\, München\, 81541\, Deutschland
ATTACH;FMTTYPE=image/jpeg:https://cms.munich-startup.net/wp-content/uploads/2024/08/Start2-Connect-Night-in-Munich.jpg
END:VEVENT
END:VCALENDAR