BEGIN:VCALENDAR
VERSION:2.0
PRODID:-//Munich Startup - ECPv5.5.0//NONSGML v1.0//EN
CALSCALE:GREGORIAN
METHOD:PUBLISH
X-WR-CALNAME:Munich Startup
X-ORIGINAL-URL:https://cms.munich-startup.net
X-WR-CALDESC:Veranstaltungen für Munich Startup
BEGIN:VTIMEZONE
TZID:Europe/Berlin
BEGIN:DAYLIGHT
TZOFFSETFROM:+0100
TZOFFSETTO:+0200
TZNAME:CEST
DTSTART:20250330T010000
END:DAYLIGHT
BEGIN:STANDARD
TZOFFSETFROM:+0200
TZOFFSETTO:+0100
TZNAME:CET
DTSTART:20251026T010000
END:STANDARD
END:VTIMEZONE
BEGIN:VEVENT
DTSTART;TZID=Europe/Berlin:20251204T180000
DTEND;TZID=Europe/Berlin:20251204T200000
DTSTAMP:20260425T041427
CREATED:20251103T125800Z
LAST-MODIFIED:20251103T125800Z
UID:114287-1764871200-1764878400@cms.munich-startup.net
SUMMARY:Social Business Meetup München
DESCRIPTION:Das Get-together für alle Social Entrepreneurship-Begeisterten: Der Social-Startup-Hub Bayern der Social Entrepreneurship Akademie lädt zum Social Business Meetup München ein! \nBeim Social Business Meetup bekommst Du die Gelegenheit\, Dich mit Gleichgesinnten zu vernetzen und von spannenden Vorträgen inspirieren zu lassen. \nAls Rednerinnen begrüßen wir Anne Hufnagel von inGemeinschaft und Doris Schoger von Tildi\, die wertvolle Einblicke in ihre Gründungsgeschichten geben. \nNach den praxisorientierten Vorträgen bekommst Du die Chance\, Dich beim entspannten Netzwerken bei Snacks und Getränken mit der Münchner Gründungsszene auszutauschen. \nDie Veranstaltung findet mit Unterstützung der Regionalgruppe Bayern des Social Entrepreneurship Netzwerk Deutschland e.V. statt.\nDer Social-Startup-Hub Bayern ist ein Projekt der Social Entrepreneurship Akademie und wird aus Mitteln des Bayerischen Staatsministeriums für Familie\, Arbeit und Soziales gefördert. \nHier findet Ihr mehr Informationen zu der Veranstaltung.
URL:https://cms.munich-startup.net/veranstaltung/social-business-meetup-muenchen-1225/
LOCATION:basecamp München by JOBLINGE\, Brienner Str. 59\, München\, 80333
ATTACH;FMTTYPE=image/png:https://cms.munich-startup.net/wp-content/uploads/2025/11/SBMM_Visual_Newsletter_Template.png
END:VEVENT
END:VCALENDAR