BEGIN:VCALENDAR
VERSION:2.0
PRODID:-//Munich Startup - ECPv5.5.0//NONSGML v1.0//EN
CALSCALE:GREGORIAN
METHOD:PUBLISH
X-WR-CALNAME:Munich Startup
X-ORIGINAL-URL:https://cms.munich-startup.net
X-WR-CALDESC:Veranstaltungen für Munich Startup
BEGIN:VTIMEZONE
TZID:Europe/Berlin
BEGIN:DAYLIGHT
TZOFFSETFROM:+0100
TZOFFSETTO:+0200
TZNAME:CEST
DTSTART:20260329T010000
END:DAYLIGHT
BEGIN:STANDARD
TZOFFSETFROM:+0200
TZOFFSETTO:+0100
TZNAME:CET
DTSTART:20261025T010000
END:STANDARD
END:VTIMEZONE
BEGIN:VEVENT
DTSTART;TZID=Europe/Berlin:20260423T180000
DTEND;TZID=Europe/Berlin:20260423T200000
DTSTAMP:20260424T131342
CREATED:20260324T080028Z
LAST-MODIFIED:20260324T080028Z
UID:118355-1776967200-1776974400@cms.munich-startup.net
SUMMARY:Social Business Meetup München
DESCRIPTION:Der Social-Startup-Hub Bayern der Social Entrepreneurship Akademie lädt gemeinsam mit der TU München am 23. April von 18 bis 20 Uhr zum Social Business Meetup München ins Vorhoelzer Forum ein. \nDich erwarten Einblicke aus erster Hand von den Gründerinnen Alina Friedrichs (guud) und Katharina Hesseler (Omegga). Sie teilen ehrliche Erfahrungen aus ihren Gründungen und geben Dir wertvolle Tipps für Dein eigenes Vorhaben. Im Anschluss hast Du die Gelegenheit\, über den Dächern der Stadt mit der Münchner Gründungsszene ins Gespräch zu kommen. \nHier findet Ihr mehr Informationen zu der Veranstaltung.
URL:https://cms.munich-startup.net/veranstaltung/social-business-meetup-muenchen-0426/
LOCATION:Vorhoelzer Forum\, Arcisstraße 21\, München\, Bayern\, Deutschland
ATTACH;FMTTYPE=image/jpeg:https://cms.munich-startup.net/wp-content/uploads/2026/03/250415_SBM-Muenchen_Bernadette-Stoeckl-33-1.jpg
END:VEVENT
END:VCALENDAR