BEGIN:VCALENDAR
VERSION:2.0
PRODID:-//Munich Startup - ECPv5.5.0//NONSGML v1.0//EN
CALSCALE:GREGORIAN
METHOD:PUBLISH
X-WR-CALNAME:Munich Startup
X-ORIGINAL-URL:https://cms.munich-startup.net
X-WR-CALDESC:Veranstaltungen für Munich Startup
BEGIN:VTIMEZONE
TZID:Europe/Berlin
BEGIN:DAYLIGHT
TZOFFSETFROM:+0100
TZOFFSETTO:+0200
TZNAME:CEST
DTSTART:20250330T010000
END:DAYLIGHT
BEGIN:STANDARD
TZOFFSETFROM:+0200
TZOFFSETTO:+0100
TZNAME:CET
DTSTART:20251026T010000
END:STANDARD
END:VTIMEZONE
BEGIN:VEVENT
DTSTART;TZID=Europe/Berlin:20250415T180000
DTEND;TZID=Europe/Berlin:20250415T200000
DTSTAMP:20260425T155902
CREATED:20250317T073228Z
LAST-MODIFIED:20250317T073228Z
UID:108505-1744740000-1744747200@cms.munich-startup.net
SUMMARY:Social Business Meetup München
DESCRIPTION:Der Social-Startup-Hub Bayern der Social Entrepreneurship Akademie lädt gemeinsam mit der Technischen Universität München (TUM) zum Social Business Meetup München ein! \nBeim Social Business Meetup bekommst Du die Gelegenheit\, Dich mit Gleichgesinnten zu vernetzen und von spannenden Vorträgen inspirieren zu lassen. \nAls Speaker:innen begrüßen wir Flora Geske vom SUMM AI und Elias Hasel von Isar Pyrolisis\, die wertvolle Einblicke in ihre Gründungsgeschichten geben. \nNach den praxisorientierten Inputs bekommst Du die Chance\, Dich beim entspannten Networking bei Snacks und Getränken mit der Impact Entrepreneurship-Szene Münchens und darüber hinaus auszutauschen. \nDie Veranstaltung findet mit Unterstützung der Regionalgruppe Bayern des Social Entrepreneurship Netzwerk Deutschland e.V. statt. \nHier findet Ihr mehr Informationen zu der Veranstaltung.
URL:https://cms.munich-startup.net/veranstaltung/social-business-meetup-muenchen-0425/
LOCATION:Vorhoelzer Forum\, Arcisstraße 21\, München\, Bayern\, Deutschland
ATTACH;FMTTYPE=image/png:https://cms.munich-startup.net/wp-content/uploads/2025/03/SBMM-x-TUM_Visual_Newsletter.png
END:VEVENT
END:VCALENDAR