BEGIN:VCALENDAR
VERSION:2.0
PRODID:-//Munich Startup - ECPv5.5.0//NONSGML v1.0//EN
CALSCALE:GREGORIAN
METHOD:PUBLISH
X-WR-CALNAME:Munich Startup
X-ORIGINAL-URL:https://cms.munich-startup.net
X-WR-CALDESC:Veranstaltungen für Munich Startup
BEGIN:VTIMEZONE
TZID:Europe/Berlin
BEGIN:DAYLIGHT
TZOFFSETFROM:+0100
TZOFFSETTO:+0200
TZNAME:CEST
DTSTART:20230326T010000
END:DAYLIGHT
BEGIN:STANDARD
TZOFFSETFROM:+0200
TZOFFSETTO:+0100
TZNAME:CET
DTSTART:20231029T010000
END:STANDARD
END:VTIMEZONE
BEGIN:VEVENT
DTSTART;TZID=Europe/Berlin:20230622T140000
DTEND;TZID=Europe/Berlin:20230622T220000
DTSTAMP:20260424T192010
CREATED:20230505T082411Z
LAST-MODIFIED:20230505T082411Z
UID:91121-1687442400-1687471200@cms.munich-startup.net
SUMMARY:SERVUS ScaleUp: The Franco-Bavarian Startup Festival
DESCRIPTION:La French Tech Munich is re-launching „La Nuit Franco-Bavaroise des Startups“ into the epic SERVUS ScaleUp Festival – focusing on Deeptech! \nBased on the concept initiated by ATOS\, “La Nuit Franco-Bavaroise des Startups” always aimed to reinforce the French-Bavarian Tech collaboration. This year\, La French Tech Munich is relaunching this flagship event with its long-time partners at the Institut Français. \nFor this fourth edition\, La French Tech Munich will focus on promoting the attractiveness of Munich and Bavaria in the field of DeepTech\, highlighting innovative companies in Quantum Computing\, Artificial Intelligence\, Machine Learning\, Cybersecurity\, Metaverse alongside IT Sobriety and Decarbonization. \nThis Flagship Festival aims to strengthen the relationships between the Bavarian economy and the French startups. La French Tech Munich always had a unique mission – Building Bridges Across The Rhine – and a strong belief that – Creating European Champions Will Start With A Deep French-German Cooperation. As such\, we need to spur collaborative action between France and Germany to accelerate European Tech\, and in particular DeepTech. \nThis Festival expects a diverse and passionate crowd of policymakers\, scientists\, academicians\, corporates\, investors\, and entrepreneurs to discuss Europe’s role in expanding DeepTech innovation across its borders and contribute to its sovereignty. \nIn addition of building local network\, creating business development opportunities\, recruiting new talents\, and sharing cutting-edge knowledge in the field\, we will host 20 startups which will have the chance to present themselves in front of a selected jury: 10 French startups willing to expand onto the German market and 10 Bavarian startups looking to internationalize in the French market will be selected for this pitch session. The best of each cohort\, as well as the most innovative one overall\, will receive an award. \nHier findet Ihr mehr Informationen zu der Veranstaltung.
URL:https://cms.munich-startup.net/veranstaltung/servus-scaleup-the-franco-bavarian-startup-festival/
LOCATION:Institut Français\, Kaulbachstr. 13\, München\, 80539
ATTACH;FMTTYPE=image/jpeg:https://cms.munich-startup.net/wp-content/uploads/2023/05/SERVUS-ScaleUp-The-Franco-Bavarian-Startup-Festival.jpg
END:VEVENT
END:VCALENDAR