BEGIN:VCALENDAR
VERSION:2.0
PRODID:-//Munich Startup - ECPv5.5.0//NONSGML v1.0//EN
CALSCALE:GREGORIAN
METHOD:PUBLISH
X-WR-CALNAME:Munich Startup
X-ORIGINAL-URL:https://cms.munich-startup.net
X-WR-CALDESC:Veranstaltungen für Munich Startup
BEGIN:VTIMEZONE
TZID:Europe/Berlin
BEGIN:DAYLIGHT
TZOFFSETFROM:+0100
TZOFFSETTO:+0200
TZNAME:CEST
DTSTART:20250330T010000
END:DAYLIGHT
BEGIN:STANDARD
TZOFFSETFROM:+0200
TZOFFSETTO:+0100
TZNAME:CET
DTSTART:20251026T010000
END:STANDARD
END:VTIMEZONE
BEGIN:VEVENT
DTSTART;TZID=Europe/Berlin:20250401T183000
DTEND;TZID=Europe/Berlin:20250401T213000
DTSTAMP:20260425T155045
CREATED:20250108T152654Z
LAST-MODIFIED:20250108T152901Z
UID:106918-1743532200-1743543000@cms.munich-startup.net
SUMMARY:SCE InnovationsCafé: Personalized Nutrition
DESCRIPTION:Kommt vorbei wenn ihr spannende Key-Notes\, Open Pitches und spannende Gespräche zum Thema „Personalized Nutrition“ erleben wollt! \nFragt ihr euch manchmal\, ob eure Ernährung wirklich zu eurem Alltag passt? Oder wie eine personalisierte Ernährung euch dabei helfen kann\, gesünder\, fitter und energiegeladener durch den Tag zu kommen? \nPersonalized Food ist mehr als nur ein Trend – es ist die Zukunft der Ernährung. Mit innovativen Ansätzen ermöglicht die Personalisierung\, dass eure Mahlzeiten genau auf eure individuellen Bedürfnisse\, Vorlieben und Lebensstile abgestimmt sind. Doch wie funktioniert das eigentlich? Welche Technologien stehen dahinter\, und wie weit sind wir in diesem Bereich? \nUnsere inspirierenden Speaker:innen zeigen an diesem Abend\, wie personalisierte Ernährung Realität wird. Ihr erfahrt\, wie modernste Technologien dabei helfen\, Ernährung maßzuschneidern\, um Gesundheit und Wohlbefinden zu steigern\, und welche Möglichkeiten und Ansätze es gibt\, eure Mahlzeiten in Einklang mit euren persönlichen Zielen und dem Alltag zu bringen. \nNach dem offiziellen Teil des Abends gibt es wie immer genügend Zeit für Austausch und spannende Gespräche – vielleicht erfahrt ihr von Ernährungsplänen die ihr ausprobieren wollt! Natürlich alles in entspannter Atmosphäre mit Snacks und Getränken. \nKommt gerne schon ab 17 Uhr zum „After Work“ in die Creative Hall: Hier könnt ihr vor dem Start des InnovationsCafés noch ein bisschen arbeiten oder bei einem Kaffee mit anderen ins Gespräch kommen. \nHier findet Ihr mehr Informationen zu der Veranstaltung.
URL:https://cms.munich-startup.net/veranstaltung/sce-innovationscafe-personalized-nutrition/
LOCATION:Steelcase Creative Hall\, Heßstraße 89\, München\, 80797
ATTACH;FMTTYPE=image/jpeg:https://cms.munich-startup.net/wp-content/uploads/2025/01/InnoCafe_Basismotiv_Eventbrite_PN.jpg
GEO:48.1537043;11.5578747
X-APPLE-STRUCTURED-LOCATION;VALUE=URI;X-ADDRESS=Steelcase Creative Hall Heßstraße 89 München 80797;X-APPLE-RADIUS=500;X-TITLE=Heßstraße 89:geo:11.5578747,48.1537043
END:VEVENT
END:VCALENDAR