BEGIN:VCALENDAR
VERSION:2.0
PRODID:-//Munich Startup - ECPv5.5.0//NONSGML v1.0//EN
CALSCALE:GREGORIAN
METHOD:PUBLISH
X-WR-CALNAME:Munich Startup
X-ORIGINAL-URL:https://cms.munich-startup.net
X-WR-CALDESC:Veranstaltungen für Munich Startup
BEGIN:VTIMEZONE
TZID:Europe/Berlin
BEGIN:DAYLIGHT
TZOFFSETFROM:+0100
TZOFFSETTO:+0200
TZNAME:CEST
DTSTART:20180325T010000
END:DAYLIGHT
BEGIN:STANDARD
TZOFFSETFROM:+0200
TZOFFSETTO:+0100
TZNAME:CET
DTSTART:20181028T010000
END:STANDARD
END:VTIMEZONE
BEGIN:VEVENT
DTSTART;TZID=Europe/Berlin:20180507T160000
DTEND;TZID=Europe/Berlin:20180507T233000
DTSTAMP:20260424T233008
CREATED:20170905T090245Z
LAST-MODIFIED:20180504T080936Z
UID:27483-1525708800-1525735800@cms.munich-startup.net
SUMMARY:The Royal Jungle Startup Rave 2018
DESCRIPTION:The Royal Jungle is an international rave for startup rebels! Apply for your free ticket and join 1.000 selected startup rookies.
URL:https://cms.munich-startup.net/veranstaltung/royal-jungle-startup-rave-2018/
ATTACH;FMTTYPE=image/jpeg:https://cms.munich-startup.net/wp-content/uploads/2017/08/Venus.jpg
END:VEVENT
END:VCALENDAR