BEGIN:VCALENDAR
VERSION:2.0
PRODID:-//Munich Startup - ECPv5.5.0//NONSGML v1.0//EN
CALSCALE:GREGORIAN
METHOD:PUBLISH
X-WR-CALNAME:Munich Startup
X-ORIGINAL-URL:https://cms.munich-startup.net
X-WR-CALDESC:Veranstaltungen für Munich Startup
BEGIN:VTIMEZONE
TZID:Europe/Berlin
BEGIN:DAYLIGHT
TZOFFSETFROM:+0100
TZOFFSETTO:+0200
TZNAME:CEST
DTSTART:20240331T010000
END:DAYLIGHT
BEGIN:STANDARD
TZOFFSETFROM:+0200
TZOFFSETTO:+0100
TZNAME:CET
DTSTART:20241027T010000
END:STANDARD
END:VTIMEZONE
BEGIN:VEVENT
DTSTART;TZID=Europe/Berlin:20241203T130000
DTEND;TZID=Europe/Berlin:20241203T200000
DTSTAMP:20260425T214121
CREATED:20241025T074533Z
LAST-MODIFIED:20241025T074533Z
UID:105486-1733230800-1733256000@cms.munich-startup.net
SUMMARY:Plug and Play Insurtech Expo 13
DESCRIPTION:Join Plug and Play Munich for its upcoming Insurtech Expo 13! \nIn collaboration with the platform’s corporate partners\, this event is going to be an opportunity to spotlight the technologies of the future\, emphasizing the potential of open innovation in fostering collaboration between major corporations and startups. \nAgenda:\n13:00 – 13:30 Welcome & Registration \n13:30 – 13:45 Opening Remarks \n13:45 – 14:00 Plug and Play Trends & Insights \n14:00 – 14:45 Startup Pitches & Demos \n14:45 – 15:30 Innovation KPIs: Redefining Success in the Insurance Industry | Panel discussion \n15:30 – 16:00 NETWORKING BREAK \n16:00 – 16:20 Featured Keynote \n16:20 – 17:00 Startup Pitches & Demos \n17:00 – 17:15 Award Ceremonies & Closing Remarks \n17:15 – 20:00 Networking & Drinks \nHier findet Ihr mehr Informationen zu der Veranstaltung.
URL:https://cms.munich-startup.net/veranstaltung/plug-and-play-insurtech-expo-13/
LOCATION:München\, München\, 80333
ATTACH;FMTTYPE=image/jpeg:https://cms.munich-startup.net/wp-content/uploads/2024/10/Plug-and-Play-Insurtech-Expo-13.jpg
GEO:48.1440989;11.5695525
END:VEVENT
END:VCALENDAR