BEGIN:VCALENDAR
VERSION:2.0
PRODID:-//Munich Startup - ECPv5.5.0//NONSGML v1.0//EN
CALSCALE:GREGORIAN
METHOD:PUBLISH
X-WR-CALNAME:Munich Startup
X-ORIGINAL-URL:https://cms.munich-startup.net
X-WR-CALDESC:Veranstaltungen für Munich Startup
BEGIN:VTIMEZONE
TZID:Europe/Berlin
BEGIN:DAYLIGHT
TZOFFSETFROM:+0100
TZOFFSETTO:+0200
TZNAME:CEST
DTSTART:20260329T010000
END:DAYLIGHT
BEGIN:STANDARD
TZOFFSETFROM:+0200
TZOFFSETTO:+0100
TZNAME:CET
DTSTART:20261025T010000
END:STANDARD
END:VTIMEZONE
BEGIN:VEVENT
DTSTART;TZID=Europe/Berlin:20260310T130000
DTEND;TZID=Europe/Berlin:20260310T200000
DTSTAMP:20260424T155007
CREATED:20260123T075557Z
LAST-MODIFIED:20260123T075557Z
UID:116395-1773147600-1773172800@cms.munich-startup.net
SUMMARY:Plug and Play Germany Summit 2026
DESCRIPTION:Join us for Plug and Play Germany Summit 2026 — Europe’s first major AI-focused\, cross-industry event hosted by Plug and Play\, bringing together corporate innovators\, investors\, and ecosystem leaders for a day of inspiration\, collaboration\, and impact. \nWhy you can’t miss it:\n– 350+ invited guests from across industries\n– 25+ expert speakers sharing insights on AI\, investment\, and innovation\n– 20+ startups presenting breakthrough solutions\n– 5+ industries represented \nSummit Agenda – Tackling Europe’s Key AI Challenges in 2026:\n– AI Implementation Across Industries: Sharing measurable outcomes and practical impact\n– The VC Perspective on AI Investments: Real use cases or the next big bubble?\n– Corporate Innovation: Strategies for successful tech adoption within organizations \nWhat to expect:\n– Carefully curated speaker lineup featuring top minds from corporates\, government\, and startups\n– Innovative startup showcase including international and German pioneers: Certivity\, Blockbrain\, Mistral AI\, Mercanis\, SPARETECH\, and many more\n– C-level attendees\, premium networking\, and thought-provoking discussions\n– High-level talks\, panel discussions\, and opportunities to forge meaningful connections \nSpeaker lineup highlights:\nSaeed Amidi\, CEO & Founder at Plug and Play\nTobias Gotthardt\, Vice Minister\, Bavarian State Parliament\nJörn Messner\, VP Operations at Lufthansa\nFlorian Dürr\, VP AI and Digital Transformation at Eberspächer Group\nDr. Oliver Duschka\, Chief Digital Officer at Konzern Versicherungskammer\nDr. Axel Schell\, Chief Technology Officer at Allianz Technology\nLuka Baumhauer\, Director\, New Verticals at Mastercard\nGuillaume Bour\, Head of Enterprise EMEA at Mistral AI\nJulien Pahud\, International Patient Success & Innovation Senior Director at Eli Lilly\nJasmina Popovska\, Head of Investment at EIT Manufacturing \nWho should attend:\nCorporate leaders\, entrepreneurs\, and ecosystem enablers—if you want to stay ahead in AI\, this is the must-attend event this spring. A full day of technology\, collaboration\, and impact awaits. \nLocation:\nMunich\, one of Europe’s fastest-growing AI hubs\, at BMW Welt. Explore iconic architecture\, staged BMW vehicles\, and visionary ideas—all while networking and discovering the latest in AI innovation. \nHier findet Ihr mehr Informationen zu der Veranstaltung. 
URL:https://cms.munich-startup.net/veranstaltung/plug-and-play-germany-summit-2026/
LOCATION:BMW Welt\, Am Olympiapark 1\, München\, Bavaria\, 80809\, Germany
ATTACH;FMTTYPE=image/jpeg:https://cms.munich-startup.net/wp-content/uploads/2026/01/Eventbrite_Banner_Germany-Summit.jpeg
END:VEVENT
END:VCALENDAR