BEGIN:VCALENDAR
VERSION:2.0
PRODID:-//Munich Startup - ECPv5.5.0//NONSGML v1.0//EN
CALSCALE:GREGORIAN
METHOD:PUBLISH
X-WR-CALNAME:Munich Startup
X-ORIGINAL-URL:https://cms.munich-startup.net
X-WR-CALDESC:Veranstaltungen für Munich Startup
BEGIN:VTIMEZONE
TZID:Europe/Berlin
BEGIN:DAYLIGHT
TZOFFSETFROM:+0100
TZOFFSETTO:+0200
TZNAME:CEST
DTSTART:20250330T010000
END:DAYLIGHT
BEGIN:STANDARD
TZOFFSETFROM:+0200
TZOFFSETTO:+0100
TZNAME:CET
DTSTART:20251026T010000
END:STANDARD
END:VTIMEZONE
BEGIN:VEVENT
DTSTART;TZID=Europe/Berlin:20250605T133000
DTEND;TZID=Europe/Berlin:20250605T180000
DTSTAMP:20260425T125244
CREATED:20250515T122422Z
LAST-MODIFIED:20250515T122422Z
UID:109765-1749130200-1749146400@cms.munich-startup.net
SUMMARY:Pitch + Connect
DESCRIPTION:Pitch + Connect – Exclusive networking event for investors and founders \nJoin us as an investor\, founder or guest for an exclusive pitch event featuring the next generation of innovative early-stage/pre-seed high-tech and deep-tech startups from the gate Garching and the TUM Incubator of the Technical Universityof Munich. \nHier findet Ihr mehr Informationen zu der Veranstaltung.
URL:https://cms.munich-startup.net/veranstaltung/pitch-connect/
LOCATION:gate – Garchinger Technologie- und Gründerzentrum GmbH\, Lichtenbergstraße 8\, Garching bei München\, 85748
ATTACH;FMTTYPE=image/jpeg:https://cms.munich-startup.net/wp-content/uploads/2025/05/Pitch-Connect_5.-Juni-2025-Visual-Homepage-.jpg
GEO:48.2686397;11.6651295
X-APPLE-STRUCTURED-LOCATION;VALUE=URI;X-ADDRESS=gate – Garchinger Technologie- und Gründerzentrum GmbH Lichtenbergstraße 8 Garching bei München 85748;X-APPLE-RADIUS=500;X-TITLE=Lichtenbergstraße 8:geo:11.6651295,48.2686397
END:VEVENT
END:VCALENDAR