BEGIN:VCALENDAR
VERSION:2.0
PRODID:-//Munich Startup - ECPv5.5.0//NONSGML v1.0//EN
CALSCALE:GREGORIAN
METHOD:PUBLISH
X-WR-CALNAME:Munich Startup
X-ORIGINAL-URL:https://cms.munich-startup.net
X-WR-CALDESC:Veranstaltungen für Munich Startup
BEGIN:VTIMEZONE
TZID:Europe/Berlin
BEGIN:DAYLIGHT
TZOFFSETFROM:+0100
TZOFFSETTO:+0200
TZNAME:CEST
DTSTART:20260329T010000
END:DAYLIGHT
BEGIN:STANDARD
TZOFFSETFROM:+0200
TZOFFSETTO:+0100
TZNAME:CET
DTSTART:20261025T010000
END:STANDARD
END:VTIMEZONE
BEGIN:VEVENT
DTSTART;TZID=Europe/Berlin:20260422T133000
DTEND;TZID=Europe/Berlin:20260422T143000
DTSTAMP:20260424T131151
CREATED:20260314T092314Z
LAST-MODIFIED:20260326T110317Z
UID:118736-1776864600-1776868200@cms.munich-startup.net
SUMMARY:Online: Tutorial: Pitchen vor Investoren – deine Startup-Story
DESCRIPTION:Investoren sind interessiert möglichst früh mit potenzialträchtigen Startups in Kontakt zu kommen. Der Pitch ist dabei neben anderen „Unterlagen“ wie Executive Summary\, 2Pager\, Read Deck oder Businessplan die Eintrittskarte zu ersten Gesprächen und Investmentverhandlungen. Im Pitch solltest du deine Monetarisierungsstrategie darlegen und kritische Fragen beantworten können. \nMarkus A. Schilling\, Leiter Ausbildungsprogamm und Startup-Coach bei der BayStartUP GmbH\, gibt dir Einblicke und Anregungen zur Entwicklung deiner Startup-Story sowie zu den Fragen\, mit denen du rechnen musst: \n\nAuf welche Erfolgsfaktoren achten Investoren?\nWo sind diesbezüglich eure Stärken und Schwächen?\nWie konzipiere ich meine Startup-Story im Pitch?\nMit welchen Fragen muss ich rechnen?\n\nHier findet Ihr mehr Informationen zu der Veranstaltung.
URL:https://cms.munich-startup.net/veranstaltung/online-tutorial-pitchen-vor-investoren-deine-startup-story-0426/
LOCATION:Online
ATTACH;FMTTYPE=image/png:https://cms.munich-startup.net/wp-content/uploads/2025/10/BayStartUP_Logotype_pos_RGB-1.png
END:VEVENT
END:VCALENDAR