BEGIN:VCALENDAR
VERSION:2.0
PRODID:-//Munich Startup - ECPv5.5.0//NONSGML v1.0//EN
CALSCALE:GREGORIAN
METHOD:PUBLISH
X-WR-CALNAME:Munich Startup
X-ORIGINAL-URL:https://cms.munich-startup.net
X-WR-CALDESC:Veranstaltungen für Munich Startup
BEGIN:VTIMEZONE
TZID:Europe/Berlin
BEGIN:DAYLIGHT
TZOFFSETFROM:+0100
TZOFFSETTO:+0200
TZNAME:CEST
DTSTART:20260329T010000
END:DAYLIGHT
BEGIN:STANDARD
TZOFFSETFROM:+0200
TZOFFSETTO:+0100
TZNAME:CET
DTSTART:20261025T010000
END:STANDARD
END:VTIMEZONE
BEGIN:VEVENT
DTSTART;TZID=Europe/Berlin:20260417T133000
DTEND;TZID=Europe/Berlin:20260417T143000
DTSTAMP:20260424T130939
CREATED:20260326T105746Z
LAST-MODIFIED:20260326T105746Z
UID:118733-1776432600-1776436200@cms.munich-startup.net
SUMMARY:Online: Tutorial: Freedom to Operate
DESCRIPTION:Tutorial: Freedom to Operate – Wie kann ich sicherstellen\, dass ich keine IP-Rechte anderer verletze? \nWenn du dich gezielt gegen Patentierung\, Designschutz oder Markenrecherche entschieden hast\, kannst du mit deinem Startup trotzdem in Konflikt mit den Intellectual Property Rechten anderer Unternehmen geraten. Dies kann mit Verlust von Zeit und Geld einhergehen und im „worst case“ existenzbedrohend für dein Startup sein. \nPatentanwalt Michael Wegerer aus der Winter • Brandl – Patent- und Rechtsanwaltskanzlei bietet dir einen Einblick\, wie du den Handlungsspielraum für dein Startup analysieren kannst und Zeit- und Geldverlust vermeidest: \n\nWas bedeutet „Freedom to Operate“?\nIst „Freedom to Operate“ auch für ein IT-Startup relevant?\nWann ist der richtige Zeitpunkt für die Recherche?\nKann ein Startup die Recherche selbst durchführen?\nMit welchen Kosten und mit welchem zeitlichen Aufwand muss ich rechnen?\n\nHier findet Ihr mehr Informationen zu der Veranstaltung.
URL:https://cms.munich-startup.net/veranstaltung/online-tutorial-freedom-to-operate/
LOCATION:Online
ATTACH;FMTTYPE=image/png:https://cms.munich-startup.net/wp-content/uploads/2026/03/BayStartUP_Logotype_pos_RGB-1.png
END:VEVENT
END:VCALENDAR