BEGIN:VCALENDAR
VERSION:2.0
PRODID:-//Munich Startup - ECPv5.5.0//NONSGML v1.0//EN
CALSCALE:GREGORIAN
METHOD:PUBLISH
X-WR-CALNAME:Munich Startup
X-ORIGINAL-URL:https://cms.munich-startup.net
X-WR-CALDESC:Veranstaltungen für Munich Startup
BEGIN:VTIMEZONE
TZID:Europe/Berlin
BEGIN:DAYLIGHT
TZOFFSETFROM:+0100
TZOFFSETTO:+0200
TZNAME:CEST
DTSTART:20240331T010000
END:DAYLIGHT
BEGIN:STANDARD
TZOFFSETFROM:+0200
TZOFFSETTO:+0100
TZNAME:CET
DTSTART:20241027T010000
END:STANDARD
END:VTIMEZONE
BEGIN:VEVENT
DTSTART;TZID=Europe/Berlin:20241010T090000
DTEND;TZID=Europe/Berlin:20241010T120000
DTSTAMP:20260426T002936
CREATED:20240117T121254Z
LAST-MODIFIED:20240117T121254Z
UID:97402-1728550800-1728561600@cms.munich-startup.net
SUMMARY:Online: Master your Pitching Skills!
DESCRIPTION:Women Start-up Empowerment Training Series 2024: Master your Pitching Skills! \nYour pitch is your time to shine. Get it right and you can secure exactly the support you need to bring your vision to life. Regardless of whether you want to pitch your research\, start-up idea\, project report\, etc.\, sharpening your pitching skills is crucial to getting your audience intrigued and inspired to take action. \nWe invite all present and future female founders or students interested to learn how to pitch with impact from all educational and professional backgrounds. Pair your ideas with the right presentation strategy and there is no limit to how far you can go!\nSign up for this training and make pitching your superpower. \nPrerequisite for participation\nTo make the most out of the experience\, we require you to prepare a first draft of a 3-minute pitch about an idea or a project you are passionate about and bring it with you to the training. That way\, you will create the opportunity for yourself to apply your newly gained knowledge and know-how directly to your own work and interests. \nHier findet Ihr mehr Informationen zu der Veranstaltung.
URL:https://cms.munich-startup.net/veranstaltung/online-master-your-pitching-skills/
LOCATION:Online
ATTACH;FMTTYPE=image/png:https://cms.munich-startup.net/wp-content/uploads/2024/01/UnternehmerTUM-logo-color-3.png
END:VEVENT
END:VCALENDAR