BEGIN:VCALENDAR
VERSION:2.0
PRODID:-//Munich Startup - ECPv5.5.0//NONSGML v1.0//EN
CALSCALE:GREGORIAN
METHOD:PUBLISH
X-WR-CALNAME:Munich Startup
X-ORIGINAL-URL:https://cms.munich-startup.net
X-WR-CALDESC:Veranstaltungen für Munich Startup
BEGIN:VTIMEZONE
TZID:Europe/Berlin
BEGIN:DAYLIGHT
TZOFFSETFROM:+0100
TZOFFSETTO:+0200
TZNAME:CEST
DTSTART:20220327T010000
END:DAYLIGHT
BEGIN:STANDARD
TZOFFSETFROM:+0200
TZOFFSETTO:+0100
TZNAME:CET
DTSTART:20221030T010000
END:STANDARD
END:VTIMEZONE
BEGIN:VEVENT
DTSTART;TZID=Europe/Berlin:20220324T090000
DTEND;TZID=Europe/Berlin:20220324T103000
DTSTAMP:20260424T212834
CREATED:20220303T071428Z
LAST-MODIFIED:20220303T071428Z
UID:80438-1648112400-1648117800@cms.munich-startup.net
SUMMARY:Online: M&A Breakfast digital - Hot Topics Wachstumskapital
DESCRIPTION:Wachstumsbremse Cash – mit Growth Equity raus aus der Startup-Garage und rein in echte unternehmerische Strukturen! Darum geht es am 24. März im M&A Breakfast digital mit dem Thema „Hot Topics Wachstumskapital“. \nAlec Rauschenbusch von Grazia Equity berichtet aus Sicht einer der erfahrensten deutschen Startup-Investoren. Einen Blick von der anderen Seite gewährt Nikos Kalitta und spricht über das breit aufgestellte Finanzierungsspektrum des deutschen Vorzeige-Startups GetYourGuide. Ergänzt wird die Diskussion um Tipps zur rechtlichen Gestaltung von Finanzierungsrunden durch die Legal-Experten von Rödl & Partner. \nImpulsvorträge:\n– Wachstumskapital bei jungen Unternehmen – Erfahrungen aus der Investorenpraxis\n– Einhorn-Status\, und nun? – Diversifikation der Finanzierungsstruktur bei High-Growth-Unternehmen\n– Finanzierungsrunden in der Wachstumsphase – Gestaltungshinweise aus rechtlicher Sicht \nReferenten:\n– Alec Rauschenbusch\, Gründer und Geschäftsführer\, Grazia Equity GmbH\n– Nikos Kalitta\, Director Group Accounting\, Taxation & Treasury\, GetYourGuide GmbH\n– Diana Fischer\, Steuerberaterin\, Partnerin\n– Christoph Hinz\, Dipl.-Betriebswirt\, Partner\n– Christoph Hirt\, Dipl.-Kaufmann\, Partner\n– Dr. Alexander Kutsch\, Rechtsanwalt\, FAStR\, Steuerberater\, Partner \nHier findet Ihr mehr Informationen zu der Veranstaltung.
URL:https://cms.munich-startup.net/veranstaltung/online-ma-breakfast-digital-hot-topics-wachstumskapital/
LOCATION:Online
ATTACH;FMTTYPE=image/jpeg:https://cms.munich-startup.net/wp-content/uploads/2022/03/Banner_Event_MA-Breakfast_allgemein.jpg
END:VEVENT
END:VCALENDAR