BEGIN:VCALENDAR
VERSION:2.0
PRODID:-//Munich Startup - ECPv5.5.0//NONSGML v1.0//EN
CALSCALE:GREGORIAN
METHOD:PUBLISH
X-WR-CALNAME:Munich Startup
X-ORIGINAL-URL:https://cms.munich-startup.net
X-WR-CALDESC:Veranstaltungen für Munich Startup
BEGIN:VTIMEZONE
TZID:Europe/Berlin
BEGIN:DAYLIGHT
TZOFFSETFROM:+0100
TZOFFSETTO:+0200
TZNAME:CEST
DTSTART:20250330T010000
END:DAYLIGHT
BEGIN:STANDARD
TZOFFSETFROM:+0200
TZOFFSETTO:+0100
TZNAME:CET
DTSTART:20251026T010000
END:STANDARD
END:VTIMEZONE
BEGIN:VEVENT
DTSTART;TZID=Europe/Berlin:20250508T100000
DTEND;TZID=Europe/Berlin:20250508T110000
DTSTAMP:20260425T142430
CREATED:20250423T072848Z
LAST-MODIFIED:20250423T072917Z
UID:109291-1746698400-1746702000@cms.munich-startup.net
SUMMARY:Online: IP im Fokus - Wirksamer Marken- und Designschutz
DESCRIPTION:BIHK-Webinar: IP im Fokus – Wirksamer Marken- und Designschutz \nSo schützt Ihr Brands und Business mit EU-Unterstützung \nErfahrt\, wie Ihr Eure Marken\, Designs\, Domains und Firmennamen effektiv schützen und dabei von EU-Förderprogrammen profitieren könnt. Das BIHK-Webinar bietet eine Einführung in die wichtigsten Aspekte des geistigen Eigentums sowie detaillierte Informationen zum EUIPO-Förderprogramm „Ideas Powered for Business“\, das speziell für kleine und mittlere Unternehmen (KMU) konzipiert wurde. \nMeldet Euch jetzt kostenfrei an und sichert Euch wertvolle Einblicke sowie praktische Unterstützung beim Schutz Eurer geistigen Eigentumsrechte! \nHier findet Ihr mehr Informationen zu der Veranstaltung.
URL:https://cms.munich-startup.net/veranstaltung/online-ip-im-fokus-wirksamer-marken-und-designschutz/
LOCATION:Online
END:VEVENT
END:VCALENDAR