BEGIN:VCALENDAR
VERSION:2.0
PRODID:-//Munich Startup - ECPv5.5.0//NONSGML v1.0//EN
CALSCALE:GREGORIAN
METHOD:PUBLISH
X-WR-CALNAME:Munich Startup
X-ORIGINAL-URL:https://cms.munich-startup.net
X-WR-CALDESC:Veranstaltungen für Munich Startup
BEGIN:VTIMEZONE
TZID:Europe/Berlin
BEGIN:DAYLIGHT
TZOFFSETFROM:+0100
TZOFFSETTO:+0200
TZNAME:CEST
DTSTART:20250330T010000
END:DAYLIGHT
BEGIN:STANDARD
TZOFFSETFROM:+0200
TZOFFSETTO:+0100
TZNAME:CET
DTSTART:20251026T010000
END:STANDARD
END:VTIMEZONE
BEGIN:VEVENT
DTSTART;TZID=Europe/Berlin:20250624T123000
DTEND;TZID=Europe/Berlin:20250624T133000
DTSTAMP:20260425T130546
CREATED:20250613T112309Z
LAST-MODIFIED:20250613T112309Z
UID:110381-1750768200-1750771800@cms.munich-startup.net
SUMMARY:Online: Inside Impact Capital – Investment Readiness & VC Logic
DESCRIPTION:FASE hosts an online live expert talk with 4P Capital & BONVENTURE to break down myths and explore VC perspectives on investment readiness. \nWhat makes an impact venture truly “investment ready” in the eyes of a VC? And which of the myths founders hear actually hold true? \nIn this live online expert talk\, FASE puts two experienced VC investors in the hot seat – and asks the bold questions founders rarely get to ask. Cutting through myths and decoding investor logic\, this session helps impact ventures close blind spots and understand what really makes a financing case compelling. \nUnfiltered insights\, real investor logic – and rare access to how VCs really think. \nWith experience from over 100 transactions and a strong network of 2\,200+ investors\, FASE know both sides of the table – and brings that experience into the room to create real orientation\, clarity and access. \nTogether with:\n– Anna Sophie Blistein\, Partner at BONVENTURE\n– Laurent-Frédéric Lohman\, Investor at 4P Capital\n– Hosted by Marie Wysk\, Transaction Manager at FASE \nExpect:\n– Honest insights into VC decision-making\n– Bold questions from a founder’s perspective\n– Real talk on signals\, red flags and mission-fit\n– A front-row seat to honest investor dialogue – and a space to ask your own questions \nAbout the series:\nThis session kicks off the Impact Funding Sessions – FASE’s new event series for impact ventures on their funding journey. From legal masterclasses to deep-dive interviews\, each format sheds light on a different dimension of raising capital. \nInside Impact Capital is our recurring interview format: bold\, live conversations with investors offering rare insights into how funding decisions are made. \nThis event is funded as part of the “Nachhaltig Wirken“ program by the Federal Ministry of Economic Affairs and Climate Action and the European Union through the European Social Fund Plus (ESF Plus). \nHier findet Ihr mehr Informationen zu der Veranstaltung. 
URL:https://cms.munich-startup.net/veranstaltung/online-inside-impact-capital-investment-readiness-vc-logic/
LOCATION:Online
ATTACH;FMTTYPE=image/avif:https://cms.munich-startup.net/wp-content/uploads/2025/06/Inside-Impact-Capital-–-Investment-Readiness-VC-Logic.avif
END:VEVENT
END:VCALENDAR