BEGIN:VCALENDAR
VERSION:2.0
PRODID:-//Munich Startup - ECPv5.5.0//NONSGML v1.0//EN
CALSCALE:GREGORIAN
METHOD:PUBLISH
X-WR-CALNAME:Munich Startup
X-ORIGINAL-URL:https://cms.munich-startup.net
X-WR-CALDESC:Veranstaltungen für Munich Startup
BEGIN:VTIMEZONE
TZID:Europe/Berlin
BEGIN:DAYLIGHT
TZOFFSETFROM:+0100
TZOFFSETTO:+0200
TZNAME:CEST
DTSTART:20260329T010000
END:DAYLIGHT
BEGIN:STANDARD
TZOFFSETFROM:+0200
TZOFFSETTO:+0100
TZNAME:CET
DTSTART:20261025T010000
END:STANDARD
END:VTIMEZONE
BEGIN:VEVENT
DTSTART;TZID=Europe/Berlin:20260924T103000
DTEND;TZID=Europe/Berlin:20260924T120000
DTSTAMP:20260424T155229
CREATED:20251204T080131Z
LAST-MODIFIED:20251204T080131Z
UID:115309-1790245800-1790251200@cms.munich-startup.net
SUMMARY:Online: Holdingstrukturen: Umsetzung und Vorteile für Startups
DESCRIPTION:gate-Academy „Holdingstrukturen: Umsetzung und Vorteile für Startups“: Workshop in Zusammenarbeit mit KPMG \nDu fragst dich\, welche Vorteile eine Holdingstruktur für dein Startup haben kann und wie du sie umsetzt? Dann bist du bei unserer nächsten gate-Academy genau richtig. \nIm online Themenvortrag mit anschließendem Q&A erläutert dir Christina Rester von KPMG\, folgende Inhalte: \n\nIn welcher Konstellation macht eine Holdingstruktur für dein Startup Sinn?\nWelche steuerlichen Vorteile bringt sie?\nWelche rechtlichen Rahmenbedingungen zur Umsetzung sind nötig?\n\nHier findet Ihr mehr Informationen zu der Veranstaltung.
URL:https://cms.munich-startup.net/veranstaltung/online-holdingstrukturen-umsetzung-und-vorteile-fuer-startups-3/
LOCATION:Online
ATTACH;FMTTYPE=image/jpeg:https://cms.munich-startup.net/wp-content/uploads/2025/12/EVENTBRITE-I-Holdingstrukuren-Umsetzung-und-Vorteile-fuer-Startups-Christina-Rester-1.jpg
END:VEVENT
END:VCALENDAR