BEGIN:VCALENDAR
VERSION:2.0
PRODID:-//Munich Startup - ECPv5.5.0//NONSGML v1.0//EN
CALSCALE:GREGORIAN
METHOD:PUBLISH
X-WR-CALNAME:Munich Startup
X-ORIGINAL-URL:https://cms.munich-startup.net
X-WR-CALDESC:Veranstaltungen für Munich Startup
BEGIN:VTIMEZONE
TZID:Europe/Berlin
BEGIN:DAYLIGHT
TZOFFSETFROM:+0100
TZOFFSETTO:+0200
TZNAME:CEST
DTSTART:20250330T010000
END:DAYLIGHT
BEGIN:STANDARD
TZOFFSETFROM:+0200
TZOFFSETTO:+0100
TZNAME:CET
DTSTART:20251026T010000
END:STANDARD
END:VTIMEZONE
BEGIN:VEVENT
DTSTART;TZID=Europe/Berlin:20251113T103000
DTEND;TZID=Europe/Berlin:20251113T120000
DTSTAMP:20260425T054403
CREATED:20251103T074944Z
LAST-MODIFIED:20251103T074944Z
UID:114248-1763029800-1763035200@cms.munich-startup.net
SUMMARY:Online: gate-Academy: Vorbereitungen für eine Finanzierungsrunde
DESCRIPTION:gate-Academy: Workshop in Zusammenarbeit mit KPMG (online) \nIm Themenvortrag mit anschließendem Q&A erläutert Jonas Lörwald von KPMG: \n– Die richtige Vorbereitung: Was benötige ich wann und wie?\n– Ablauf Fundraising-Prozess\, Legal Aspects und benötigte Dokumente\n– Kriterien zur Auswahl der Investoren und Due Diligence \nHier findet Ihr mehr Informationen zu der Veranstaltung.
URL:https://cms.munich-startup.net/veranstaltung/online-gate-academy-vorbereitungen-fuer-eine-finanzierungsrunde-2/
LOCATION:Online
ATTACH;FMTTYPE=image/jpeg:https://cms.munich-startup.net/wp-content/uploads/2025/10/LinkedIn-Vorbereitungen-fuer-eine-Finanzierungsrunde.jpg
END:VEVENT
END:VCALENDAR