BEGIN:VCALENDAR
VERSION:2.0
PRODID:-//Munich Startup - ECPv5.5.0//NONSGML v1.0//EN
CALSCALE:GREGORIAN
METHOD:PUBLISH
X-WR-CALNAME:Munich Startup
X-ORIGINAL-URL:https://cms.munich-startup.net
X-WR-CALDESC:Veranstaltungen für Munich Startup
BEGIN:VTIMEZONE
TZID:Europe/Berlin
BEGIN:DAYLIGHT
TZOFFSETFROM:+0100
TZOFFSETTO:+0200
TZNAME:CEST
DTSTART:20260329T010000
END:DAYLIGHT
BEGIN:STANDARD
TZOFFSETFROM:+0200
TZOFFSETTO:+0100
TZNAME:CET
DTSTART:20261025T010000
END:STANDARD
END:VTIMEZONE
BEGIN:VEVENT
DTSTART;TZID=Europe/Berlin:20260130T133000
DTEND;TZID=Europe/Berlin:20260130T143000
DTSTAMP:20260424T175833
CREATED:20250107T100608Z
LAST-MODIFIED:20251203T091358Z
UID:115261-1769779800-1769783400@cms.munich-startup.net
SUMMARY:Online: Fachtutorial: Zu viel verraten? IP-Recht deines Startups bei Auftritten auf Veranstaltungen und bei NDAs mit Corporates
DESCRIPTION:Pitch-Veranstaltungen\, Businessplan-Wettbewerbe\, Podiumsdiskussionen\, Startup-Messen\, soziale Medien – alles Events\, die hilfreich für Feedback\, Kontakte und Bekanntheitsgrad sind. Aus IP-rechtlicher Sicht macht es jedoch Sinn\, sich genau zu überlegen\, was ihr zu eurem Startup kommuniziert\, ohne dabei negative Konsequenzen für eure IP befürchten zu müssen. \nPatentanwältin Clarissa Regler aus der Kanzlei Winter • Brandl bietet dir einen Einblick in die Thematik und beantwortet dabei folgende Fragen: \n\nWarum ist Kommunikation bei diversen Events kritisch hinsichtlich der eigenen noch zu schützenden Erfindung?\nWann habe ich „Öffentlichkeit“ geschaffen?\nWelche Folgen kann eine Kommunikation ohne IP-Strategie haben?\nWelcher Aufwand und welche Kosten kommen auf mich zu\, wenn ich eine Patentanmeldung einreichen möchte?\n\nHier findet Ihr mehr Informationen zu der Veranstaltung.
URL:https://cms.munich-startup.net/veranstaltung/online-fachtutorial-zu-viel-verraten-ip-recht-0226/
LOCATION:Online
ATTACH;FMTTYPE=image/png:https://cms.munich-startup.net/wp-content/uploads/2025/01/BayStartUP_Logotype_pos_RGB-1.png
END:VEVENT
END:VCALENDAR