BEGIN:VCALENDAR
VERSION:2.0
PRODID:-//Munich Startup - ECPv5.5.0//NONSGML v1.0//EN
CALSCALE:GREGORIAN
METHOD:PUBLISH
X-WR-CALNAME:Munich Startup
X-ORIGINAL-URL:https://cms.munich-startup.net
X-WR-CALDESC:Veranstaltungen für Munich Startup
BEGIN:VTIMEZONE
TZID:Europe/Berlin
BEGIN:DAYLIGHT
TZOFFSETFROM:+0100
TZOFFSETTO:+0200
TZNAME:CEST
DTSTART:20260329T010000
END:DAYLIGHT
BEGIN:STANDARD
TZOFFSETFROM:+0200
TZOFFSETTO:+0100
TZNAME:CET
DTSTART:20261025T010000
END:STANDARD
END:VTIMEZONE
BEGIN:VEVENT
DTSTART;TZID=Europe/Berlin:20260127T133000
DTEND;TZID=Europe/Berlin:20260127T143000
DTSTAMP:20260424T173145
CREATED:20250107T080736Z
LAST-MODIFIED:20251203T090856Z
UID:115259-1769520600-1769524200@cms.munich-startup.net
SUMMARY:Online: Fachtutorial: Wann und wie gründen und was ist danach zu organisieren?
DESCRIPTION:Wann und wie gründen und was ist danach zu organisieren? Der Schritt von der Idee zur Unternehmensgründung ist eine der ersten wesentlichen Entscheidungen von Gründern. \n\nWann ist der richtige Zeitpunkt\, in welcher Rechtsform und welche Folgen hat die Gründung sind hierbei zentrale Fragen. \nDas Team der Pape & Co. gibt Dir im Fachtutorial Einblicke und Tipps zu diesen Themen: \n\nKriterien für den richtigen Zeitpunkt der Gründung\nWelche Risiken gehe ich bei zu früher oder zu später Gründung ein?\nWelche Rechtsform macht für mein Startup Sinn?\nWas ist der Unterschied zwischen einer GmbH und einer UG?\nWie läuft die Gründung einer GmbH ab?\nWas kostet die Gründung?\nEine Holding (mit)gründen oder nicht?\nWo muss ich mein Unternehmen anmelden?\nWas muss ich nach der Gründung dann alles organisieren?\n\nHier findet Ihr mehr Informationen zu der Veranstaltung.
URL:https://cms.munich-startup.net/veranstaltung/online-fachtutorial-wann-und-wie-gruenden-und-was-ist-danach-zu-organisieren-0226/
LOCATION:Online
ATTACH;FMTTYPE=image/png:https://cms.munich-startup.net/wp-content/uploads/2023/12/BayStartUP_Logotype_pos_RGB.png
END:VEVENT
END:VCALENDAR