BEGIN:VCALENDAR
VERSION:2.0
PRODID:-//Munich Startup - ECPv5.5.0//NONSGML v1.0//EN
CALSCALE:GREGORIAN
METHOD:PUBLISH
X-WR-CALNAME:Munich Startup
X-ORIGINAL-URL:https://cms.munich-startup.net
X-WR-CALDESC:Veranstaltungen für Munich Startup
BEGIN:VTIMEZONE
TZID:Europe/Berlin
BEGIN:DAYLIGHT
TZOFFSETFROM:+0100
TZOFFSETTO:+0200
TZNAME:CEST
DTSTART:20250330T010000
END:DAYLIGHT
BEGIN:STANDARD
TZOFFSETFROM:+0200
TZOFFSETTO:+0100
TZNAME:CET
DTSTART:20251026T010000
END:STANDARD
END:VTIMEZONE
BEGIN:VEVENT
DTSTART;TZID=Europe/Berlin:20250117T133000
DTEND;TZID=Europe/Berlin:20250117T143000
DTSTAMP:20260425T202154
CREATED:20250107T100108Z
LAST-MODIFIED:20250107T100134Z
UID:106858-1737120600-1737124200@cms.munich-startup.net
SUMMARY:Online: Fachtutorial: Mitarbeitende beschäftigen im Startup
DESCRIPTION:Mitarbeitende beschäftigen im Startup – die wichtigsten Änderungen zum Jahreswechsel\nUp to date zum Jahreswechsel \nFür das Jahr 2025 gibt es wieder zahlreiche Neuerungen in der Sozialversicherung für Arbeitgeber\, darunter auch viele die für Startups relevant sind. \n\nWas du als Arbeitgeber im Startup zum Jahreswechsel wissen musst: \n\nÄnderungen bei Minijobs und Midijobs durch den neuen Mindestlohn\nNeue Entwicklungen bei der eAU (elektronische Arbeitsunfähigkeitsbescheinigung)\nDas digitale Nachweisverfahren für Kinder in der Pflegeversicherung und was durch den Arbeitgeber zu tun ist.\nAuswirkungen der Mindestlohnerhöhung auf Mini- und Midijobs im Startup\nTipps zum Thema Fachkräfte gewinnen mit der Chancenkarte\n\nIn diesem Tutorial erhältst Du alle Infos zu Neuerungen in der Sozialversicherung zum Jahreswechsel\, die auch Startups betreffen\, kurz und knapp zusammengefasst. \nWährend dem Tutorial beantworten die Referierenden auch gerne alle weiteren Fragen zu den Tutorial-Themen rund um die Beschäftigung von Mitarbeitenden. \nHier findet Ihr mehr Informationen zu der Veranstaltung.
URL:https://cms.munich-startup.net/veranstaltung/online-fachtutorial-mitarbeitende-beschaeftigen-im-startup/
LOCATION:Online
ATTACH;FMTTYPE=image/png:https://cms.munich-startup.net/wp-content/uploads/2025/01/BayStartUP_Logotype_pos_RGB.png
END:VEVENT
END:VCALENDAR