BEGIN:VCALENDAR
VERSION:2.0
PRODID:-//Munich Startup - ECPv5.5.0//NONSGML v1.0//EN
CALSCALE:GREGORIAN
METHOD:PUBLISH
X-WR-CALNAME:Munich Startup
X-ORIGINAL-URL:https://cms.munich-startup.net
X-WR-CALDESC:Veranstaltungen für Munich Startup
BEGIN:VTIMEZONE
TZID:Europe/Berlin
BEGIN:DAYLIGHT
TZOFFSETFROM:+0100
TZOFFSETTO:+0200
TZNAME:CEST
DTSTART:20200329T010000
END:DAYLIGHT
BEGIN:STANDARD
TZOFFSETFROM:+0200
TZOFFSETTO:+0100
TZNAME:CET
DTSTART:20201025T010000
END:STANDARD
END:VTIMEZONE
BEGIN:VEVENT
DTSTART;TZID=Europe/Berlin:20200619T100000
DTEND;TZID=Europe/Berlin:20200619T170000
DTSTAMP:20260424T193130
CREATED:20200602T082413Z
LAST-MODIFIED:20210412T212017Z
UID:61024-1592560800-1592586000@cms.munich-startup.net
SUMMARY:Online: Digitaltag 2020
DESCRIPTION:Digitalisierung verändert unseren Alltag und unser Berufsleben tiefgreifend. Gemeinsam können wir den digitalen Wandel gestalten und alle dazu einladen mitzumachen. \nBeim Digitaltag am 19. Juni 2020 wollen wir mit zahlreichen Aktionen die unterschiedlichen Aspekte der Digitalisierung beleuchten und gemeinsam diskutieren: über Sorgen und Ängste\, über Chancen und Herausforderungen. Gemeinsam wollen wir Einblicke geben\, Digitalisierung erlebbar und damit verständlich machen und Menschen rund um digitale Themen zusammenbringen. \nJede und jeder muss in die Lage versetzt werden\, sich souverän und sicher\, selbstbewusst und selbstbestimmt in der digitalen Welt zu bewegen. \nStartup-Champs@Digitaltag\nStartup-Champs@Digitaltag ist ein virtueller Pitch-Wettbewerb\, bei dem sich junge Unternehmen aus ganz Deutschland mit ihrer Geschäftsidee bewerben können. Hierfür haben sich die Startup-Hotspots Hamburg\, Berlin\, Köln und München zusammengeschlossen mit dem Ziel: \n\nDigitalisierung verständlich & greifbar zu machen\nJungen GründerInnen eine Bühne bieten\nInnovative Lösungen der digitalen Zukunft zu prämieren\n\nHier findet Ihr mehr Informationen zum Digitaltag 2020 und zu Startup-Champs@Digitaltag.
URL:https://cms.munich-startup.net/veranstaltung/online-digitaltag-2020/
LOCATION:Online
ATTACH;FMTTYPE=image/png:https://cms.munich-startup.net/wp-content/uploads/2020/06/STARTUP-CHAMPS-DIGITALTAG.png
END:VEVENT
END:VCALENDAR