BEGIN:VCALENDAR
VERSION:2.0
PRODID:-//Munich Startup - ECPv5.5.0//NONSGML v1.0//EN
CALSCALE:GREGORIAN
METHOD:PUBLISH
X-WR-CALNAME:Munich Startup
X-ORIGINAL-URL:https://cms.munich-startup.net
X-WR-CALDESC:Veranstaltungen für Munich Startup
BEGIN:VTIMEZONE
TZID:Europe/Berlin
BEGIN:DAYLIGHT
TZOFFSETFROM:+0100
TZOFFSETTO:+0200
TZNAME:CEST
DTSTART:20250330T010000
END:DAYLIGHT
BEGIN:STANDARD
TZOFFSETFROM:+0200
TZOFFSETTO:+0100
TZNAME:CET
DTSTART:20251026T010000
END:STANDARD
END:VTIMEZONE
BEGIN:VEVENT
DTSTART;TZID=Europe/Berlin:20250319T090000
DTEND;TZID=Europe/Berlin:20250319T110000
DTSTAMP:20260425T172044
CREATED:20250213T122506Z
LAST-MODIFIED:20250213T122506Z
UID:107954-1742374800-1742382000@cms.munich-startup.net
SUMMARY:Online: BIHK-Webinar: Durchblick im Förderdschungel
DESCRIPTION:Innovationen voran treiben – dazu Förderprogramme nutzen \nBis aus einer innovativen Idee ein Produkt werden kann\, wird viel Engagement in die Forschung und Entwicklung gesteckt. Hierbei können zahlreiche Förderprogramme finanziell unterstützen!\nDie Auswahl des richtigen Programmes jedoch gleicht manchmal einem Pfad durch den Dschungel… Gemeinsam mit dem Förderlotsen bei Bayern Innovativ verhelfen wir zu mehr Durchblick! Im Webinar erhaltet Ihr eine Übersicht über die jeweils wichtigsten Förderprogramme der Bundesregierung und Bayerns sowie Hinweise auf die größten Stolpersteine. \nHier findet Ihr mehr Informationen zu der Veranstaltung.
URL:https://cms.munich-startup.net/veranstaltung/online-bihk-webinar-durchblick-im-foerderdschungel/
LOCATION:Online
ATTACH;FMTTYPE=image/png:https://cms.munich-startup.net/wp-content/uploads/2025/02/BIHK-Webinar_Durchblick-im-Foerderdschungel.png
END:VEVENT
END:VCALENDAR