BEGIN:VCALENDAR
VERSION:2.0
PRODID:-//Munich Startup - ECPv5.5.0//NONSGML v1.0//EN
CALSCALE:GREGORIAN
METHOD:PUBLISH
X-WR-CALNAME:Munich Startup
X-ORIGINAL-URL:https://cms.munich-startup.net
X-WR-CALDESC:Veranstaltungen für Munich Startup
BEGIN:VTIMEZONE
TZID:Europe/Berlin
BEGIN:DAYLIGHT
TZOFFSETFROM:+0100
TZOFFSETTO:+0200
TZNAME:CEST
DTSTART:20260329T010000
END:DAYLIGHT
BEGIN:STANDARD
TZOFFSETFROM:+0200
TZOFFSETTO:+0100
TZNAME:CET
DTSTART:20261025T010000
END:STANDARD
END:VTIMEZONE
BEGIN:VEVENT
DTSTART;TZID=Europe/Berlin:20260603T150000
DTEND;TZID=Europe/Berlin:20260603T160000
DTSTAMP:20260424T143235
CREATED:20260326T103506Z
LAST-MODIFIED:20260327T093300Z
UID:118724-1780498800-1780502400@cms.munich-startup.net
SUMMARY:Online: BAND Deep Dive: VC Fundraising
DESCRIPTION:Der Sprung vom ersten Angel-Investment zur großen VC-Runde ist für viele Startups und Business Angels die größte Hürde. Wie knackt man den Code der (Corporate) VCs? Und warum scheitern so viele GründerInnen kurz vor der Ziellinie? \nIm 90-Minuten-BAND-Deep-Dive gibt Erdinç Koç seine Erfahrung mit VCs weiter und bringt die „brutalen Wahrheiten“ aus zehn Jahren Fundraising-Praxis ein. Willem Bulthuis\, der Spezialist für Folgefinanzierungen und den Weg zum Corporate VC\, zeigt auf\, wie man strategische Partnerschaften aufbaut\, die über reines Kapital hinausgehen. \nHier findet Ihr mehr Informationen zu der Veranstaltung.
URL:https://cms.munich-startup.net/veranstaltung/online-band-deep-dive-vc-fundraising/
LOCATION:Online
ATTACH;FMTTYPE=image/png:https://cms.munich-startup.net/wp-content/uploads/2026/03/BAND-Logo-Web-1.png
END:VEVENT
END:VCALENDAR