BEGIN:VCALENDAR
VERSION:2.0
PRODID:-//Munich Startup - ECPv5.5.0//NONSGML v1.0//EN
CALSCALE:GREGORIAN
METHOD:PUBLISH
X-WR-CALNAME:Munich Startup
X-ORIGINAL-URL:https://cms.munich-startup.net
X-WR-CALDESC:Veranstaltungen für Munich Startup
BEGIN:VTIMEZONE
TZID:Europe/Berlin
BEGIN:DAYLIGHT
TZOFFSETFROM:+0100
TZOFFSETTO:+0200
TZNAME:CEST
DTSTART:20260329T010000
END:DAYLIGHT
BEGIN:STANDARD
TZOFFSETFROM:+0200
TZOFFSETTO:+0100
TZNAME:CET
DTSTART:20261025T010000
END:STANDARD
END:VTIMEZONE
BEGIN:VEVENT
DTSTART;VALUE=DATE:20260920
DTEND;VALUE=DATE:20260922
DTSTAMP:20260425T010455
CREATED:20251211T134521Z
LAST-MODIFIED:20251211T134521Z
UID:115407-1789862400-1790035199@cms.munich-startup.net
SUMMARY:MunichTech Expo
DESCRIPTION:MunichTech EXPO 2026 – Europe’s Innovation Gateway \nLaunching in Munich\, September 2026 \nWe are excited to share that we are officially preparing MunichTech EXPO 2026\, a large-scale innovation and technology festival that will bring together leaders from AI\, Mobility\, Sustainability\, HealthTech\, FinTech\, DefenceTech\, GovTech\, SportsTech\, DeepTech\, Research and more. \nOur vision is clear:\nBuild Europe’s Silicon Valley — in Munich. \nMore than 10\,000 attendees from 30+ countries will join us\, including:\n• Global corporates\n• Startups & scaleups\n• Investors & VCs\n• Universities & research institutes\n• Government & public-sector innovators\n• Talent & HR leaders\n• Developers\, engineers\, data scientists and founders \nWe are shaping a platform where technology\, entrepreneurship\, and research meet to accelerate Europe’s innovation landscape. \nHier findet Ihr mehr Informationen zu der Veranstaltung.
URL:https://cms.munich-startup.net/veranstaltung/munichtech-expo/
LOCATION:Messe München\, Am Messeturm 4\, München\, 81829
ATTACH;FMTTYPE=image/jpeg:https://cms.munich-startup.net/wp-content/uploads/2025/12/Munich-Tech-Expo.jpg
END:VEVENT
END:VCALENDAR