BEGIN:VCALENDAR
VERSION:2.0
PRODID:-//Munich Startup - ECPv5.5.0//NONSGML v1.0//EN
CALSCALE:GREGORIAN
METHOD:PUBLISH
X-WR-CALNAME:Munich Startup
X-ORIGINAL-URL:https://cms.munich-startup.net
X-WR-CALDESC:Veranstaltungen für Munich Startup
BEGIN:VTIMEZONE
TZID:Europe/Berlin
BEGIN:DAYLIGHT
TZOFFSETFROM:+0100
TZOFFSETTO:+0200
TZNAME:CEST
DTSTART:20230326T010000
END:DAYLIGHT
BEGIN:STANDARD
TZOFFSETFROM:+0200
TZOFFSETTO:+0100
TZNAME:CET
DTSTART:20231029T010000
END:STANDARD
END:VTIMEZONE
BEGIN:VEVENT
DTSTART;VALUE=DATE:20230719
DTEND;VALUE=DATE:20230720
DTSTAMP:20260425T033835
CREATED:20230310T125414Z
LAST-MODIFIED:20230713T142943Z
UID:89724-1689724800-1689811199@cms.munich-startup.net
SUMMARY:Munich Startup Festival
DESCRIPTION:Am 19. Juli 2023 dreht sich im Backstage München alles um die Münchner Startup-Szene. \nAuf unserer Mainstage geben sich Münchner Unicorns\, SpitzenpolitikerInnen und bekannte GründerInnen das Mikro in die Hand. \nDie Startup Exhibition mit über mehr als 25 ausstellenden Startups & Netzwerkpartnern zeigt die geballte Vielfalt des Münchner Ökosystems. \nHochkarätige Workshops vermitteln Insider-Wissen für Startups. \nUnd gepitcht wird auch: Der mit 5.000 Euro dotierte Munich Startup Award sucht das „Beste Münchner Startup 2023“. \nGründerInnen\, InvestorInnen\, Studierende und Startup-Interessierte: Kommt vorbei und feiert mit uns das 1. Munich Startup Festival! \nHier findet Ihr mehr Informationen zum Munich Startup Festival.
URL:https://cms.munich-startup.net/veranstaltung/munich-startup-festival/
LOCATION:Backstage München\, Reitknechtstraße 6\, München\, 80639
ATTACH;FMTTYPE=image/png:https://cms.munich-startup.net/wp-content/uploads/2023/03/MunichStartupFestival_Logo_RGB.png
GEO:48.1449756;11.5219146
X-APPLE-STRUCTURED-LOCATION;VALUE=URI;X-ADDRESS=Backstage München Reitknechtstraße 6 München 80639;X-APPLE-RADIUS=500;X-TITLE=Reitknechtstraße 6:geo:11.5219146,48.1449756
END:VEVENT
END:VCALENDAR