BEGIN:VCALENDAR
VERSION:2.0
PRODID:-//Munich Startup - ECPv5.5.0//NONSGML v1.0//EN
CALSCALE:GREGORIAN
METHOD:PUBLISH
X-WR-CALNAME:Munich Startup
X-ORIGINAL-URL:https://cms.munich-startup.net
X-WR-CALDESC:Veranstaltungen für Munich Startup
BEGIN:VTIMEZONE
TZID:Europe/Berlin
BEGIN:DAYLIGHT
TZOFFSETFROM:+0100
TZOFFSETTO:+0200
TZNAME:CEST
DTSTART:20260329T010000
END:DAYLIGHT
BEGIN:STANDARD
TZOFFSETFROM:+0200
TZOFFSETTO:+0100
TZNAME:CET
DTSTART:20261025T010000
END:STANDARD
END:VTIMEZONE
BEGIN:VEVENT
DTSTART;VALUE=DATE:20260722
DTEND;VALUE=DATE:20260723
DTSTAMP:20260424T172423
CREATED:20251203T085937Z
LAST-MODIFIED:20260422T095615Z
UID:115822-1784678400-1784764799@cms.munich-startup.net
SUMMARY:Munich Startup Festival 2026
DESCRIPTION:Munich Startup Festival 2026 – Das Sommer-Highlight der Münchner Startup-Community \nSeid ihr GründerInnen\, InvestorInnen\, Studierende oder einfach gerne am Netzwerken? Dann solltet ihr euch dieses Event nicht entgehen lassen! \nMarkiert euch den 22. Juli 2026 im Kalender! An diesem Tag verwandelt sich das Backstage München erneut in das Zentrum der Münchner Startup-Szene. Nach dem großen Erfolg der letzten Jahre gehen wir 2026 in die nächste Runde: Freut euch auf inspirierende GründerInnen\, namhafte PolitikerInnen und andere Persönlichkeiten des Startup-Ökosystems. \nNatürlich wird auch das Pitchen wieder ein Highlight sein – der Munich Startup Award 2026 kürt das „Beste Münchner Startup 2026“. Alles verpackt in eine noch größere Portion Festival-Feeling. \nHier gibt’s Hintergrundgeschichten zum Festival aus der Redaktion.
URL:https://cms.munich-startup.net/veranstaltung/munich-startup-festival-2026/
LOCATION:Backstage München\, Reitknechtstraße 6\, München\, 80639
ATTACH;FMTTYPE=image/jpeg:https://cms.munich-startup.net/wp-content/uploads/2025/12/260418_MSF_E-Mail-1.jpg
GEO:48.1449756;11.5219146
X-APPLE-STRUCTURED-LOCATION;VALUE=URI;X-ADDRESS=Backstage München Reitknechtstraße 6 München 80639;X-APPLE-RADIUS=500;X-TITLE=Reitknechtstraße 6:geo:11.5219146,48.1449756
END:VEVENT
END:VCALENDAR