BEGIN:VCALENDAR
VERSION:2.0
PRODID:-//Munich Startup - ECPv5.5.0//NONSGML v1.0//EN
CALSCALE:GREGORIAN
METHOD:PUBLISH
X-WR-CALNAME:Munich Startup
X-ORIGINAL-URL:https://cms.munich-startup.net
X-WR-CALDESC:Veranstaltungen für Munich Startup
BEGIN:VTIMEZONE
TZID:Europe/Berlin
BEGIN:DAYLIGHT
TZOFFSETFROM:+0100
TZOFFSETTO:+0200
TZNAME:CEST
DTSTART:20250330T010000
END:DAYLIGHT
BEGIN:STANDARD
TZOFFSETFROM:+0200
TZOFFSETTO:+0100
TZNAME:CET
DTSTART:20251026T010000
END:STANDARD
END:VTIMEZONE
BEGIN:VEVENT
DTSTART;TZID=Europe/Berlin:20250626T150000
DTEND;TZID=Europe/Berlin:20250626T220000
DTSTAMP:20260425T125234
CREATED:20250523T060243Z
LAST-MODIFIED:20250523T060405Z
UID:109932-1750950000-1750975200@cms.munich-startup.net
SUMMARY:MedTech Unleashed
DESCRIPTION:MedTech Unleashed: Innovating With Confidence – From Bold Idea to Predictable Outcome\nOn June 26\, 2025\, MedTech Unleashed brings together startups\, scale-ups\, and MedTech decision-makers for a one-day event in Munich. \nThrough four expert-led breakout sessions and a keynote by Christian Walther Øyrabø\, CEO of Danish tech scale-up OOONO\, the event explores real-world challenges in MedTech – from usability and CI/CD to structured development and commercialization. \nThe event is designed for innovators\, entrepreneurs\, and established MedTech companies looking to turn bold ideas into predictable outcomes. \nHier findet Ihr mehr Informationen zu der Veranstaltung.
URL:https://cms.munich-startup.net/veranstaltung/medtech-unleashed/
LOCATION:Studio G3\, Gudrunstraße 3 Rgb\, München\, 80634\, Germany
ATTACH;FMTTYPE=image/jpeg:https://cms.munich-startup.net/wp-content/uploads/2025/05/MedTech_Unleashed_2025_June_26.jpg
END:VEVENT
END:VCALENDAR