BEGIN:VCALENDAR
VERSION:2.0
PRODID:-//Munich Startup - ECPv5.5.0//NONSGML v1.0//EN
CALSCALE:GREGORIAN
METHOD:PUBLISH
X-WR-CALNAME:Munich Startup
X-ORIGINAL-URL:https://cms.munich-startup.net
X-WR-CALDESC:Veranstaltungen für Munich Startup
BEGIN:VTIMEZONE
TZID:Europe/Berlin
BEGIN:DAYLIGHT
TZOFFSETFROM:+0100
TZOFFSETTO:+0200
TZNAME:CEST
DTSTART:20250330T010000
END:DAYLIGHT
BEGIN:STANDARD
TZOFFSETFROM:+0200
TZOFFSETTO:+0100
TZNAME:CET
DTSTART:20251026T010000
END:STANDARD
END:VTIMEZONE
BEGIN:VEVENT
DTSTART;TZID=Europe/Berlin:20250319T110000
DTEND;TZID=Europe/Berlin:20250320T170000
DTSTAMP:20260425T171553
CREATED:20241216T130434Z
LAST-MODIFIED:20250108T152949Z
UID:106652-1742382000-1742490000@cms.munich-startup.net
SUMMARY:Media Lab Innovation Festival 2025
DESCRIPTION:Das Media Lab Innovation Festival ist keine Konferenz\, bei der Du passiv zuhörst. Stattdessen gibt es interaktive Sessions\, die auf die aktuellen Pain Points der Medienbranche eingehen. Hier setzen wir gemeinsam aktiv an den Herausforderungen an. Du entwickelst Deine Fähigkeiten weiter und tauschst Dich mit Gleichgesinnten aus – perfekt\, um direkt in die Umsetzung zu gehen! Dazwischen gibt es Impulsvorträge von Leuten\, die die Zukunft der Medien prägen. \nWir sind nicht einfach yet another conference! \nDas Media Lab Innovation Festival sind zwei Tage voller wertvoller Inputs\, praxisnaher Übungen und Austausch mit Fachleuten. Ob du Journalist:in\, Redakteur:in oder Medienmanager:in bist\, dieses Event bietet Dir die Tools\, um die Zukunft Deines Medienhauses zu gestalten. \nDenn Du weißt ja: Zukunft passiert sowieso\, entscheidend ist\, was Du daraus machst! \nHier findet Ihr mehr Informationen zu der Veranstaltung.
URL:https://cms.munich-startup.net/veranstaltung/media-lab-innovation-festival-2025/
LOCATION:Hochschule für Fernsehen und Film München\, Bernd-Eichinger-Platz 1\, München\, 80333
ATTACH;FMTTYPE=image/jpeg:https://cms.munich-startup.net/wp-content/uploads/2024/12/MIF-2025.jpg
GEO:48.1466619;11.5695916
X-APPLE-STRUCTURED-LOCATION;VALUE=URI;X-ADDRESS=Hochschule für Fernsehen und Film München Bernd-Eichinger-Platz 1 München 80333;X-APPLE-RADIUS=500;X-TITLE=Bernd-Eichinger-Platz 1:geo:11.5695916,48.1466619
END:VEVENT
END:VCALENDAR