BEGIN:VCALENDAR
VERSION:2.0
PRODID:-//Munich Startup - ECPv5.5.0//NONSGML v1.0//EN
CALSCALE:GREGORIAN
METHOD:PUBLISH
X-WR-CALNAME:Munich Startup
X-ORIGINAL-URL:https://cms.munich-startup.net
X-WR-CALDESC:Veranstaltungen für Munich Startup
BEGIN:VTIMEZONE
TZID:Europe/Berlin
BEGIN:DAYLIGHT
TZOFFSETFROM:+0100
TZOFFSETTO:+0200
TZNAME:CEST
DTSTART:20250330T010000
END:DAYLIGHT
BEGIN:STANDARD
TZOFFSETFROM:+0200
TZOFFSETTO:+0100
TZNAME:CET
DTSTART:20251026T010000
END:STANDARD
END:VTIMEZONE
BEGIN:VEVENT
DTSTART;TZID=Europe/Berlin:20251216T090000
DTEND;TZID=Europe/Berlin:20251216T113000
DTSTAMP:20260425T041426
CREATED:20251120T144129Z
LAST-MODIFIED:20251120T144129Z
UID:114912-1765875600-1765884600@cms.munich-startup.net
SUMMARY:Matchmaking Morning Jour Fix: Women Power Needed in Startups
DESCRIPTION:Looking for your next start-up adventure? Meet founders and build diverse\, high-performing teams. \nWomen Start-up by UnternehmerTUM in cooperation with Encourage Ventures are bringing fresh energy to the founder scene with a new\, dynamic pitch and matchmaking format. \nThis isn’t just about jobs — it’s about building diverse\, high-performing leadership teams.\nWe’re matching future entrepreneurs and Start-ups with powerful female talent ready to make an impact.\nWhether you’re seeking a co-founder\, board advisor\, tech lead\, marketing mastermind\, or HR expert\, we’re here to make the matches that truly matter.\nOur focus: team chemistry\, shared values\, complementary skills\, and a common drive to build something extraordinary. \nWho’s this for?\nFounders & Startup Teams Looking to Expand with Female Talent: Ready to take your company to the next level by bringing on female power.\nFemale Founders & Professionals Looking to Join a Startup Team: Eager to step into a tech startup and drive your career forward. \nHier findet Ihr mehr Informationen zu der Veranstaltung.
URL:https://cms.munich-startup.net/veranstaltung/matchmaking-morning-jour-fix-women-power-needed-in-startups/
LOCATION:Munich Urban Colab\, Freddie-Mercury-Straße 5\, München\, 80797
ATTACH;FMTTYPE=image/jpeg:https://cms.munich-startup.net/wp-content/uploads/2025/11/Morning-JF_14.11.24-4.jpg
END:VEVENT
END:VCALENDAR