BEGIN:VCALENDAR
VERSION:2.0
PRODID:-//Munich Startup - ECPv5.5.0//NONSGML v1.0//EN
CALSCALE:GREGORIAN
METHOD:PUBLISH
X-WR-CALNAME:Munich Startup
X-ORIGINAL-URL:https://cms.munich-startup.net
X-WR-CALDESC:Veranstaltungen für Munich Startup
BEGIN:VTIMEZONE
TZID:Europe/Berlin
BEGIN:DAYLIGHT
TZOFFSETFROM:+0100
TZOFFSETTO:+0200
TZNAME:CEST
DTSTART:20260329T010000
END:DAYLIGHT
BEGIN:STANDARD
TZOFFSETFROM:+0200
TZOFFSETTO:+0100
TZNAME:CET
DTSTART:20261025T010000
END:STANDARD
END:VTIMEZONE
BEGIN:VEVENT
DTSTART;TZID=Europe/Berlin:20260303T170000
DTEND;TZID=Europe/Berlin:20260303T210000
DTSTAMP:20260424T155202
CREATED:20260216T102504Z
LAST-MODIFIED:20260216T102504Z
UID:116994-1772557200-1772571600@cms.munich-startup.net
SUMMARY:LMU Innovation Incubator Demo Day - Cohort 7
DESCRIPTION:On Tuesday\, March 3\, 2026\, we invite you to experience the final pitches of the startup teams from LMU Innovation Incubator Cohort 7 \nThe LMU Innovation Incubator supports researchers and early-stage founders from diverse backgrounds by strengthening their entrepreneurial mindset and equipping them with the skills needed to translate ideas into impactful ventures. Their projects reflect the transformational potential of science-driven entrepreneurship and a strong ambition to create real-world impact. \nWe warmly invite you to join us for an inspiring afternoon of innovation\, exchange\, and insight into the next generation of LMU spin-offs and startup ideas. \nStartup Pitches\n\nChromera — LMU Medicine / Biology\nevoVect — LMU Chemistry & Pharmacy\nFörder Fokus — LMU Psychology & Educational Sciences\nMovitus — LMU School of Management\nNanoAntenna Diagnostics — LMU Chemistry & Pharmacy\nNeo Soma — LMU Mathematics\, Informatics & Statistics / School of Management\n\nMUG Funding for Knowledge Transfer & Impact Entrepreneurship presented by Münchner Universitätsgesellschaft / Prof. Dr. Dr. Peter Höppe. \nHosts: Annie Weichselbaum\, Incubation Lead\, LMU Innovation & Entrepreneurship Center\, and Dr. Alan Armstrong\, The Strong Startup \nWe look forward to welcoming you and celebrating the next generation of LMU startups. \nHier findet Ihr mehr Informationen zu der Veranstaltung.
URL:https://cms.munich-startup.net/veranstaltung/lmu-innovation-incubator-demo-day-cohort-7/
LOCATION:WERK1\, Am Kartoffelgarten 14\, München\, 81671\, Germany
ATTACH;FMTTYPE=image/jpeg:https://cms.munich-startup.net/wp-content/uploads/2026/02/demo-day-2026-webpagecover_1_1_format_m-3.jpg
END:VEVENT
END:VCALENDAR